BEGIN:VCALENDAR
VERSION:2.0
PRODID:-//Southend in Sight - ECPv6.0.12//NONSGML v1.0//EN
CALSCALE:GREGORIAN
METHOD:PUBLISH
X-ORIGINAL-URL:https://southendinsight.org.uk
X-WR-CALDESC:Events for Southend in Sight
REFRESH-INTERVAL;VALUE=DURATION:PT1H
X-Robots-Tag:noindex
X-PUBLISHED-TTL:PT1H
BEGIN:VTIMEZONE
TZID:UTC
BEGIN:STANDARD
TZOFFSETFROM:+0000
TZOFFSETTO:+0000
TZNAME:UTC
DTSTART:20240101T000000
END:STANDARD
END:VTIMEZONE
BEGIN:VEVENT
DTSTART;TZID=UTC:20240802T110000
DTEND;TZID=UTC:20240802T123000
DTSTAMP:20260419T182410
CREATED:20230224T125330Z
LAST-MODIFIED:20240429T130220Z
UID:10001485-1722596400-1722601800@southendinsight.org.uk
SUMMARY:Coffee Morning
DESCRIPTION:Tea/coffee/biscuits £1.\nAll are welcome – bring a friend!
URL:https://southendinsight.org.uk/event/coffee-morning/2024-08-02/
LOCATION:Ekco Social and Sports Club Association\, Thornford Gardens\, Southend-on-Sea\, Essex\, SS2 6PU\, United Kingdom
CATEGORIES:Regular Events
ATTACH;FMTTYPE=image/png:https://southendinsight.org.uk/wp-content/uploads/2023/01/Cup-of-coffee-with-roasted-beans-and-green-leaves-on-black-background.png
END:VEVENT
BEGIN:VEVENT
DTSTART;TZID=UTC:20240807T140000
DTEND;TZID=UTC:20240807T153000
DTSTAMP:20260419T182410
CREATED:20231106T104515Z
LAST-MODIFIED:20231106T104516Z
UID:10001369-1723039200-1723044600@southendinsight.org.uk
SUMMARY:Line Dancing
DESCRIPTION:All welcome\, please call to book your place.
URL:https://southendinsight.org.uk/event/line-dancing-2/2024-08-07/
LOCATION:Avenue Baptist Church\, Milton Road\, Westcliff-on-Sea\, Essex\, SS0 7PL\, United Kingdom
CATEGORIES:Regular Events
ATTACH;FMTTYPE=image/jpeg:https://southendinsight.org.uk/wp-content/uploads/2023/09/Line-Dancing.jpg
END:VEVENT
BEGIN:VEVENT
DTSTART;TZID=UTC:20240814T140000
DTEND;TZID=UTC:20240814T153000
DTSTAMP:20260419T182410
CREATED:20230224T125139Z
LAST-MODIFIED:20260112T161313Z
UID:10001158-1723644000-1723649400@southendinsight.org.uk
SUMMARY:Visually impaired Choir
DESCRIPTION:Come and join “In Sight Singers”. \nPlease call our office to book your place.
URL:https://southendinsight.org.uk/event/visually-impaired-choir/2024-08-14/
LOCATION:Avenue Baptist Church\, Milton Road\, Westcliff-on-Sea\, Essex\, SS0 7PL\, United Kingdom
CATEGORIES:Regular Events
ATTACH;FMTTYPE=image/png:https://southendinsight.org.uk/wp-content/uploads/2023/01/Close-up-of-microphone-on-stage-lighting-at-concert-hall-or-conference-room.-copy-space-banner.-soft-focus.png
END:VEVENT
BEGIN:VEVENT
DTSTART;TZID=UTC:20240816T110000
DTEND;TZID=UTC:20240816T123000
DTSTAMP:20260419T182410
CREATED:20230224T124635Z
LAST-MODIFIED:20230412T141956Z
UID:10000600-1723806000-1723811400@southendinsight.org.uk
SUMMARY:Fun Friday
DESCRIPTION:No need to book – just turn up and bring a friend!
URL:https://southendinsight.org.uk/event/fun-friday/2024-08-16/
LOCATION:Ekco Social and Sports Club Association\, Thornford Gardens\, Southend-on-Sea\, Essex\, SS2 6PU\, United Kingdom
CATEGORIES:Regular Events
ATTACH;FMTTYPE=image/png:https://southendinsight.org.uk/wp-content/uploads/2023/01/TGIF-Thank-God-Its-Friday-acronym-concept-background.png
END:VEVENT
BEGIN:VEVENT
DTSTART;TZID=UTC:20241026T190000
DTEND;TZID=UTC:20241026T223000
DTSTAMP:20260419T182410
CREATED:20240429T121135Z
LAST-MODIFIED:20240501T151303Z
UID:10001481-1729969200-1729981800@southendinsight.org.uk
SUMMARY:Quiz Night
DESCRIPTION:Teams of 6-8\, £7 per person. Please call our office on 01702 342131 to book your table or place.
URL:https://southendinsight.org.uk/event/quiz-night/
LOCATION:St Peter’s Church Hall\, Eastbourne Grove\, Westcliff-on-Sea\, SS0 0QF\, United Kingdom
CATEGORIES:Fundraising Events
ATTACH;FMTTYPE=image/jpeg:https://southendinsight.org.uk/wp-content/uploads/2024/04/Quiz.jpg
END:VEVENT
BEGIN:VEVENT
DTSTART;TZID=UTC:20241030T100000
DTEND;TZID=UTC:20241030T140000
DTSTAMP:20260419T182410
CREATED:20240429T120646Z
LAST-MODIFIED:20240501T150903Z
UID:10001480-1730282400-1730296800@southendinsight.org.uk
SUMMARY:Annual Exhibition and AGM
DESCRIPTION:AGM starts at 2:45pm. Please call our office on 01702 342131 to book your place.
URL:https://southendinsight.org.uk/event/annual-exhibition-and-agm/
LOCATION:Ekco Social and Sports Club Association\, Thornford Gardens\, Southend-on-Sea\, Essex\, SS2 6PU\, United Kingdom
CATEGORIES:Special Events
ATTACH;FMTTYPE=image/jpeg:https://southendinsight.org.uk/wp-content/uploads/2024/04/Exhibition-ladies-23-rotated.jpg
END:VEVENT
BEGIN:VEVENT
DTSTART;TZID=UTC:20250821T110000
DTEND;TZID=UTC:20250821T133000
DTSTAMP:20260419T182410
CREATED:20260114T155615Z
LAST-MODIFIED:20260220T162306Z
UID:10000986-1755774000-1755783000@southendinsight.org.uk
SUMMARY:Ten Pin Bowling
DESCRIPTION:Weekly Ten Pin Bowling at CJ’s. \nPlease call our office to book your place
URL:https://southendinsight.org.uk/event/ten-pin-bowling-3/2025-08-21/
LOCATION:CJ’s Bowling\, Eldon Way\, Hockley\, Essex\, SS5 4AD\, United Kingdom
CATEGORIES:Regular Events
ATTACH;FMTTYPE=image/jpeg:https://southendinsight.org.uk/wp-content/uploads/2026/01/Ten-Pin-Bowling.jpg
END:VEVENT
BEGIN:VEVENT
DTSTART;TZID=UTC:20260115T103000
DTEND;TZID=UTC:20260115T123000
DTSTAMP:20260419T182410
CREATED:20260112T164836Z
LAST-MODIFIED:20260114T154032Z
UID:10002237-1768473000-1768480200@southendinsight.org.uk
SUMMARY:Talking Books Demo
DESCRIPTION:Talking books demo with the new RNIB USB player.  Please call the office to book your place.
URL:https://southendinsight.org.uk/event/talking-books-demo/
LOCATION:Southend in Sight Centre\, Ground Floor\, SAVS\, 29 Alexandra Street\, Southend on Sea\, Essex\, SS1 1BW\, United Kingdom
CATEGORIES:Drop-in Sessions
ATTACH;FMTTYPE=image/jpeg:https://southendinsight.org.uk/wp-content/uploads/2026/01/SIS-Talking-Books-Demo.jpg
END:VEVENT
BEGIN:VEVENT
DTSTART;TZID=UTC:20260121T140000
DTEND;TZID=UTC:20260121T150000
DTSTAMP:20260419T182410
CREATED:20260112T161931Z
LAST-MODIFIED:20260114T160024Z
UID:10000677-1769004000-1769007600@southendinsight.org.uk
SUMMARY:Wednesday Talking Book Club
DESCRIPTION:A talking book club. \nPlease call our office to book your place.
URL:https://southendinsight.org.uk/event/talking-book-club-3/2026-01-21/
LOCATION:Southend in Sight Centre\, Ground Floor\, SAVS\, 29 Alexandra Street\, Southend on Sea\, Essex\, SS1 1BW\, United Kingdom
CATEGORIES:Regular Events
ATTACH;FMTTYPE=image/jpeg:https://southendinsight.org.uk/wp-content/uploads/2026/01/Talking-Book-Club.jpg
END:VEVENT
BEGIN:VEVENT
DTSTART;TZID=UTC:20260127T103000
DTEND;TZID=UTC:20260127T123000
DTSTAMP:20260419T182410
CREATED:20260112T170854Z
LAST-MODIFIED:20260114T153912Z
UID:10002238-1769509800-1769517000@southendinsight.org.uk
SUMMARY:Accessible Board Games for Adults
DESCRIPTION:Accessible board games for adults. Please call the office to book your place.
URL:https://southendinsight.org.uk/event/accessible-board-games-for-adults/
LOCATION:Southend in Sight Centre\, Ground Floor\, SAVS\, 29 Alexandra Street\, Southend on Sea\, Essex\, SS1 1BW\, United Kingdom
CATEGORIES:Drop-in Sessions
ATTACH;FMTTYPE=image/jpeg:https://southendinsight.org.uk/wp-content/uploads/2026/01/Accessible-board-games-for-adults.jpg
END:VEVENT
BEGIN:VEVENT
DTSTART;TZID=UTC:20260212T103000
DTEND;TZID=UTC:20260212T123000
DTSTAMP:20260419T182410
CREATED:20260112T171257Z
LAST-MODIFIED:20260114T153801Z
UID:10002239-1770892200-1770899400@southendinsight.org.uk
SUMMARY:IT Session
DESCRIPTION:IT session with volunteer Steve. Please call the office to book your place.
URL:https://southendinsight.org.uk/event/it-session/
LOCATION:Southend in Sight Centre\, Ground Floor\, SAVS\, 29 Alexandra Street\, Southend on Sea\, Essex\, SS1 1BW\, United Kingdom
CATEGORIES:Drop-in Sessions
ATTACH;FMTTYPE=image/jpeg:https://southendinsight.org.uk/wp-content/uploads/2026/01/IT-Session.jpg
END:VEVENT
BEGIN:VEVENT
DTSTART;TZID=UTC:20260217T103000
DTEND;TZID=UTC:20260217T123000
DTSTAMP:20260419T182410
CREATED:20260112T171448Z
LAST-MODIFIED:20260114T153734Z
UID:10002240-1771324200-1771331400@southendinsight.org.uk
SUMMARY:Pancake Day Celebration
DESCRIPTION:Celebrate pancake day with us! Please call the office to book your place.
URL:https://southendinsight.org.uk/event/pancake-day-celebration/
LOCATION:Southend in Sight Centre\, Ground Floor\, SAVS\, 29 Alexandra Street\, Southend on Sea\, Essex\, SS1 1BW\, United Kingdom
CATEGORIES:Drop-in Sessions
ATTACH;FMTTYPE=image/jpeg:https://southendinsight.org.uk/wp-content/uploads/2026/01/Pancake-Day.jpg
END:VEVENT
BEGIN:VEVENT
DTSTART;TZID=UTC:20260331T103000
DTEND;TZID=UTC:20260331T123000
DTSTAMP:20260419T182410
CREATED:20260112T171727Z
LAST-MODIFIED:20260224T101140Z
UID:10002241-1774953000-1774960200@southendinsight.org.uk
SUMMARY:Easter Cake Making Session
DESCRIPTION:Easter cake making session. Please call the office to book your place.
URL:https://southendinsight.org.uk/event/easter-cake-making-session/
LOCATION:Southend in Sight Centre\, Ground Floor\, SAVS\, 29 Alexandra Street\, Southend on Sea\, Essex\, SS1 1BW\, United Kingdom
CATEGORIES:Drop-in Sessions
ATTACH;FMTTYPE=image/jpeg:https://southendinsight.org.uk/wp-content/uploads/2026/01/Easter-Cake-Making.jpg
END:VEVENT
BEGIN:VEVENT
DTSTART;TZID=UTC:20260416T100000
DTEND;TZID=UTC:20260416T150000
DTSTAMP:20260419T182410
CREATED:20260224T095511Z
LAST-MODIFIED:20260224T101225Z
UID:10002966-1776333600-1776351600@southendinsight.org.uk
SUMMARY:Professional Vision Demo Day
DESCRIPTION:Please call the office to book your place.
URL:https://southendinsight.org.uk/event/professional-vision-demo-day/
LOCATION:Southend in Sight Centre\, Ground Floor\, SAVS\, 29 Alexandra Street\, Southend on Sea\, Essex\, SS1 1BW\, United Kingdom
CATEGORIES:Drop-in Sessions
ATTACH;FMTTYPE=image/jpeg:https://southendinsight.org.uk/wp-content/uploads/2026/02/Professional-Vision-Day-1-rotated.jpg
END:VEVENT
BEGIN:VEVENT
DTSTART;TZID=UTC:20260421T103000
DTEND;TZID=UTC:20260421T123000
DTSTAMP:20260419T182410
CREATED:20260224T100851Z
LAST-MODIFIED:20260224T102019Z
UID:10002967-1776767400-1776774600@southendinsight.org.uk
SUMMARY:Accessible Board Games for Adults
DESCRIPTION:Accessible board games session for adults. Come join the fun.
URL:https://southendinsight.org.uk/event/accessible-board-games-for-adults-2/
LOCATION:Southend in Sight Centre\, Ground Floor\, SAVS\, 29 Alexandra Street\, Southend on Sea\, Essex\, SS1 1BW\, United Kingdom
CATEGORIES:Drop-in Sessions
ATTACH;FMTTYPE=image/jpeg:https://southendinsight.org.uk/wp-content/uploads/2026/02/SIS-Assessible-Board-Games-for-Adults.jpg
END:VEVENT
BEGIN:VEVENT
DTSTART;TZID=UTC:20260507T103000
DTEND;TZID=UTC:20260507T123000
DTSTAMP:20260419T182410
CREATED:20260224T101044Z
LAST-MODIFIED:20260224T101159Z
UID:10002968-1778149800-1778157000@southendinsight.org.uk
SUMMARY:Glare Glasses Demo
DESCRIPTION:Preparing for summer with a glare glasses demo. Please call the office to book your place.
URL:https://southendinsight.org.uk/event/glare-glasses-demo/
LOCATION:Southend in Sight Centre\, Ground Floor\, SAVS\, 29 Alexandra Street\, Southend on Sea\, Essex\, SS1 1BW\, United Kingdom
CATEGORIES:Drop-in Sessions
ATTACH;FMTTYPE=image/jpeg:https://southendinsight.org.uk/wp-content/uploads/2026/02/glare-glasses-rotated.jpg
END:VEVENT
BEGIN:VEVENT
DTSTART;TZID=UTC:20260519T103000
DTEND;TZID=UTC:20260519T123000
DTSTAMP:20260419T182410
CREATED:20260224T101548Z
LAST-MODIFIED:20260224T101548Z
UID:10002969-1779186600-1779193800@southendinsight.org.uk
SUMMARY:Cake Club
DESCRIPTION:Join us for cake and a chat.
URL:https://southendinsight.org.uk/event/cake-club/
LOCATION:Southend in Sight Centre\, Ground Floor\, SAVS\, 29 Alexandra Street\, Southend on Sea\, Essex\, SS1 1BW\, United Kingdom
CATEGORIES:Drop-in Sessions
ATTACH;FMTTYPE=image/jpeg:https://southendinsight.org.uk/wp-content/uploads/2026/02/SIS-Cake-Club.jpg
END:VEVENT
BEGIN:VEVENT
DTSTART;TZID=UTC:20260522T173000
DTEND;TZID=UTC:20260522T193000
DTSTAMP:20260419T182410
CREATED:20260112T173049Z
LAST-MODIFIED:20260325T173249Z
UID:10002242-1779471000-1779478200@southendinsight.org.uk
SUMMARY:Kids Kingdom Soft Play
DESCRIPTION:Soft play activity for visually impaired children aged 2-16 years old and their families.\nFree entrance\, please call the office to book your space.
URL:https://southendinsight.org.uk/event/kids-kingdom-soft-play/
LOCATION:Kids Kingdom\, Garon Park\, Eastern Avenue\, Southend
CATEGORIES:Children and Young People
ATTACH;FMTTYPE=image/jpeg:https://southendinsight.org.uk/wp-content/uploads/2026/01/Childrens-Soft-Play.jpg
END:VEVENT
BEGIN:VEVENT
DTSTART;TZID=UTC:20260611T103000
DTEND;TZID=UTC:20260611T123000
DTSTAMP:20260419T182410
CREATED:20260224T101731Z
LAST-MODIFIED:20260224T101731Z
UID:10002970-1781173800-1781181000@southendinsight.org.uk
SUMMARY:Canes Explained
DESCRIPTION:Join us to find out about all things canes. Please call the office to book your place.
URL:https://southendinsight.org.uk/event/canes-explained/
LOCATION:Southend in Sight Centre\, Ground Floor\, SAVS\, 29 Alexandra Street\, Southend on Sea\, Essex\, SS1 1BW\, United Kingdom
CATEGORIES:Drop-in Sessions
ATTACH;FMTTYPE=image/jpeg:https://southendinsight.org.uk/wp-content/uploads/2026/02/Canes.jpeg
END:VEVENT
BEGIN:VEVENT
DTSTART;TZID=UTC:20260623T080000
DTEND;TZID=UTC:20260623T170000
DTSTAMP:20260419T182410
CREATED:20260224T101921Z
LAST-MODIFIED:20260224T102032Z
UID:10002971-1782201600-1782234000@southendinsight.org.uk
SUMMARY:Air Fryer Cake in a Mug
DESCRIPTION:Join us for this demo on how to Make a cake in a mug using an air fryer. Please call the office to book your place.
URL:https://southendinsight.org.uk/event/air-fryer-cake-in-a-mug/
LOCATION:Southend in Sight Centre\, Ground Floor\, SAVS\, 29 Alexandra Street\, Southend on Sea\, Essex\, SS1 1BW\, United Kingdom
CATEGORIES:Drop-in Sessions
ATTACH;FMTTYPE=image/jpeg:https://southendinsight.org.uk/wp-content/uploads/2026/02/Cake-making-in-a-mug.jpg
END:VEVENT
END:VCALENDAR