BEGIN:VCALENDAR
VERSION:2.0
PRODID:-//Southend in Sight - ECPv6.0.12//NONSGML v1.0//EN
CALSCALE:GREGORIAN
METHOD:PUBLISH
X-ORIGINAL-URL:https://southendinsight.org.uk
X-WR-CALDESC:Events for Southend in Sight
REFRESH-INTERVAL;VALUE=DURATION:PT1H
X-Robots-Tag:noindex
X-PUBLISHED-TTL:PT1H
BEGIN:VTIMEZONE
TZID:UTC
BEGIN:STANDARD
TZOFFSETFROM:+0000
TZOFFSETTO:+0000
TZNAME:UTC
DTSTART:20230101T000000
END:STANDARD
END:VTIMEZONE
BEGIN:VEVENT
DTSTART;TZID=UTC:20230220T110000
DTEND;TZID=UTC:20230220T123000
DTSTAMP:20260423T104348
CREATED:20230224T124022Z
LAST-MODIFIED:20260114T160353Z
UID:10000264-1676890800-1676896200@southendinsight.org.uk
SUMMARY:Adult Art & Craft Sessions
DESCRIPTION:A weekly adult arts and crafts session. \nPlease call The Art Ministry to book your place on 07582 025163.
URL:https://southendinsight.org.uk/event/adult-art-craft-sessions/
LOCATION:The Art Ministry\, 1 Church Road\, Hadleigh\, Benfleet\, Essex\, SS7 2DQ\, United Kingdom
CATEGORIES:Regular Events
ATTACH;FMTTYPE=image/jpeg:https://southendinsight.org.uk/wp-content/uploads/2026/01/Adult-Art-Craft-Sessions.jpg
END:VEVENT
END:VCALENDAR