BEGIN:VCALENDAR
VERSION:2.0
PRODID:-//Southend in Sight - ECPv6.0.12//NONSGML v1.0//EN
CALSCALE:GREGORIAN
METHOD:PUBLISH
X-ORIGINAL-URL:https://southendinsight.org.uk
X-WR-CALDESC:Events for Southend in Sight
REFRESH-INTERVAL;VALUE=DURATION:PT1H
X-Robots-Tag:noindex
X-PUBLISHED-TTL:PT1H
BEGIN:VTIMEZONE
TZID:UTC
BEGIN:STANDARD
TZOFFSETFROM:+0000
TZOFFSETTO:+0000
TZNAME:UTC
DTSTART:20230101T000000
END:STANDARD
END:VTIMEZONE
BEGIN:VEVENT
DTSTART;TZID=UTC:20230602T110000
DTEND;TZID=UTC:20230602T123000
DTSTAMP:20260423T043756
CREATED:20230224T125330Z
LAST-MODIFIED:20240429T130220Z
UID:10000796-1685703600-1685709000@southendinsight.org.uk
SUMMARY:Coffee Morning
DESCRIPTION:Tea/coffee/biscuits £1.\nAll are welcome – bring a friend!
URL:https://southendinsight.org.uk/event/coffee-morning/2023-06-02/
LOCATION:Ekco Social and Sports Club Association\, Thornford Gardens\, Southend-on-Sea\, Essex\, SS2 6PU\, United Kingdom
CATEGORIES:Regular Events
ATTACH;FMTTYPE=image/png:https://southendinsight.org.uk/wp-content/uploads/2023/01/Cup-of-coffee-with-roasted-beans-and-green-leaves-on-black-background.png
END:VEVENT
BEGIN:VEVENT
DTSTART;TZID=UTC:20230614T140000
DTEND;TZID=UTC:20230614T153000
DTSTAMP:20260423T043756
CREATED:20230224T125139Z
LAST-MODIFIED:20260112T161313Z
UID:10001137-1686751200-1686756600@southendinsight.org.uk
SUMMARY:Visually impaired Choir
DESCRIPTION:Come and join “In Sight Singers”. \nPlease call our office to book your place.
URL:https://southendinsight.org.uk/event/visually-impaired-choir/2023-06-14/
LOCATION:Avenue Baptist Church\, Milton Road\, Westcliff-on-Sea\, Essex\, SS0 7PL\, United Kingdom
CATEGORIES:Regular Events
ATTACH;FMTTYPE=image/png:https://southendinsight.org.uk/wp-content/uploads/2023/01/Close-up-of-microphone-on-stage-lighting-at-concert-hall-or-conference-room.-copy-space-banner.-soft-focus.png
END:VEVENT
BEGIN:VEVENT
DTSTART;TZID=UTC:20230616T110000
DTEND;TZID=UTC:20230616T123000
DTSTAMP:20260423T043756
CREATED:20230224T124635Z
LAST-MODIFIED:20230412T141956Z
UID:10000586-1686913200-1686918600@southendinsight.org.uk
SUMMARY:Fun Friday
DESCRIPTION:No need to book – just turn up and bring a friend!
URL:https://southendinsight.org.uk/event/fun-friday/2023-06-16/
LOCATION:Ekco Social and Sports Club Association\, Thornford Gardens\, Southend-on-Sea\, Essex\, SS2 6PU\, United Kingdom
CATEGORIES:Regular Events
ATTACH;FMTTYPE=image/png:https://southendinsight.org.uk/wp-content/uploads/2023/01/TGIF-Thank-God-Its-Friday-acronym-concept-background.png
END:VEVENT
BEGIN:VEVENT
DTSTART;TZID=UTC:20230628T140000
DTEND;TZID=UTC:20230628T153000
DTSTAMP:20260423T043756
CREATED:20230224T125139Z
LAST-MODIFIED:20260112T161313Z
UID:10001138-1687960800-1687966200@southendinsight.org.uk
SUMMARY:Visually impaired Choir
DESCRIPTION:Come and join “In Sight Singers”. \nPlease call our office to book your place.
URL:https://southendinsight.org.uk/event/visually-impaired-choir/2023-06-28/
LOCATION:Avenue Baptist Church\, Milton Road\, Westcliff-on-Sea\, Essex\, SS0 7PL\, United Kingdom
CATEGORIES:Regular Events
ATTACH;FMTTYPE=image/png:https://southendinsight.org.uk/wp-content/uploads/2023/01/Close-up-of-microphone-on-stage-lighting-at-concert-hall-or-conference-room.-copy-space-banner.-soft-focus.png
END:VEVENT
END:VCALENDAR