BEGIN:VCALENDAR
VERSION:2.0
PRODID:-//Southend in Sight - ECPv6.0.12//NONSGML v1.0//EN
CALSCALE:GREGORIAN
METHOD:PUBLISH
X-ORIGINAL-URL:https://southendinsight.org.uk
X-WR-CALDESC:Events for Southend in Sight
REFRESH-INTERVAL;VALUE=DURATION:PT1H
X-Robots-Tag:noindex
X-PUBLISHED-TTL:PT1H
BEGIN:VTIMEZONE
TZID:UTC
BEGIN:STANDARD
TZOFFSETFROM:+0000
TZOFFSETTO:+0000
TZNAME:UTC
DTSTART:20230101T000000
END:STANDARD
END:VTIMEZONE
BEGIN:VEVENT
DTSTART;TZID=UTC:20231004T140000
DTEND;TZID=UTC:20231004T153000
DTSTAMP:20260422T221058
CREATED:20230904T102719Z
LAST-MODIFIED:20230904T102719Z
UID:10001359-1696428000-1696433400@southendinsight.org.uk
SUMMARY:Line Dancing
DESCRIPTION:All welcome\, please call to book your place.
URL:https://southendinsight.org.uk/event/line-dancing/2023-10-04/
LOCATION:Avenue Baptist Church\, Milton Road\, Westcliff-on-Sea\, Essex\, SS0 7PL\, United Kingdom
CATEGORIES:Regular Events
ATTACH;FMTTYPE=image/jpeg:https://southendinsight.org.uk/wp-content/uploads/2023/09/Line-Dancing.jpg
END:VEVENT
BEGIN:VEVENT
DTSTART;TZID=UTC:20231006T110000
DTEND;TZID=UTC:20231006T123000
DTSTAMP:20260422T221058
CREATED:20230224T125330Z
LAST-MODIFIED:20240429T130220Z
UID:10000800-1696590000-1696595400@southendinsight.org.uk
SUMMARY:Coffee Morning
DESCRIPTION:Tea/coffee/biscuits £1.\nAll are welcome – bring a friend!
URL:https://southendinsight.org.uk/event/coffee-morning/2023-10-06/
LOCATION:Ekco Social and Sports Club Association\, Thornford Gardens\, Southend-on-Sea\, Essex\, SS2 6PU\, United Kingdom
CATEGORIES:Regular Events
ATTACH;FMTTYPE=image/png:https://southendinsight.org.uk/wp-content/uploads/2023/01/Cup-of-coffee-with-roasted-beans-and-green-leaves-on-black-background.png
END:VEVENT
BEGIN:VEVENT
DTSTART;TZID=UTC:20231011T140000
DTEND;TZID=UTC:20231011T153000
DTSTAMP:20260422T221058
CREATED:20230224T125139Z
LAST-MODIFIED:20260112T161313Z
UID:10001143-1697032800-1697038200@southendinsight.org.uk
SUMMARY:Visually impaired Choir
DESCRIPTION:Come and join “In Sight Singers”. \nPlease call our office to book your place.
URL:https://southendinsight.org.uk/event/visually-impaired-choir/2023-10-11/
LOCATION:Avenue Baptist Church\, Milton Road\, Westcliff-on-Sea\, Essex\, SS0 7PL\, United Kingdom
CATEGORIES:Regular Events
ATTACH;FMTTYPE=image/png:https://southendinsight.org.uk/wp-content/uploads/2023/01/Close-up-of-microphone-on-stage-lighting-at-concert-hall-or-conference-room.-copy-space-banner.-soft-focus.png
END:VEVENT
BEGIN:VEVENT
DTSTART;TZID=UTC:20231020T110000
DTEND;TZID=UTC:20231020T123000
DTSTAMP:20260422T221058
CREATED:20230224T124635Z
LAST-MODIFIED:20230412T141956Z
UID:10000590-1697799600-1697805000@southendinsight.org.uk
SUMMARY:Fun Friday
DESCRIPTION:No need to book – just turn up and bring a friend!
URL:https://southendinsight.org.uk/event/fun-friday/2023-10-20/
LOCATION:Ekco Social and Sports Club Association\, Thornford Gardens\, Southend-on-Sea\, Essex\, SS2 6PU\, United Kingdom
CATEGORIES:Regular Events
ATTACH;FMTTYPE=image/png:https://southendinsight.org.uk/wp-content/uploads/2023/01/TGIF-Thank-God-Its-Friday-acronym-concept-background.png
END:VEVENT
BEGIN:VEVENT
DTSTART;TZID=UTC:20231025T100000
DTEND;TZID=UTC:20231025T100000
DTSTAMP:20260422T221058
CREATED:20230313T141518Z
LAST-MODIFIED:20230412T141653Z
UID:10000854-1698228000-1698228000@southendinsight.org.uk
SUMMARY:Southend in Sight Annual Exhibition and AGM
DESCRIPTION:This event is free and open to all\, but please call the office to book your place.
URL:https://southendinsight.org.uk/event/southend-in-sight-annual-exhibition-and-agm/
LOCATION:Ekco Social and Sports Club Association\, Thornford Gardens\, Southend-on-Sea\, Essex\, SS2 6PU\, United Kingdom
CATEGORIES:Special Events
END:VEVENT
BEGIN:VEVENT
DTSTART;TZID=UTC:20231025T140000
DTEND;TZID=UTC:20231025T153000
DTSTAMP:20260422T221058
CREATED:20230224T125139Z
LAST-MODIFIED:20260112T161313Z
UID:10001144-1698242400-1698247800@southendinsight.org.uk
SUMMARY:Visually impaired Choir
DESCRIPTION:Come and join “In Sight Singers”. \nPlease call our office to book your place.
URL:https://southendinsight.org.uk/event/visually-impaired-choir/2023-10-25/
LOCATION:Avenue Baptist Church\, Milton Road\, Westcliff-on-Sea\, Essex\, SS0 7PL\, United Kingdom
CATEGORIES:Regular Events
ATTACH;FMTTYPE=image/png:https://southendinsight.org.uk/wp-content/uploads/2023/01/Close-up-of-microphone-on-stage-lighting-at-concert-hall-or-conference-room.-copy-space-banner.-soft-focus.png
END:VEVENT
END:VCALENDAR