BEGIN:VCALENDAR
VERSION:2.0
PRODID:-//Southend in Sight - ECPv6.0.12//NONSGML v1.0//EN
CALSCALE:GREGORIAN
METHOD:PUBLISH
X-WR-CALNAME:Southend in Sight
X-ORIGINAL-URL:https://southendinsight.org.uk
X-WR-CALDESC:Events for Southend in Sight
REFRESH-INTERVAL;VALUE=DURATION:PT1H
X-Robots-Tag:noindex
X-PUBLISHED-TTL:PT1H
BEGIN:VTIMEZONE
TZID:UTC
BEGIN:STANDARD
TZOFFSETFROM:+0000
TZOFFSETTO:+0000
TZNAME:UTC
DTSTART:20240101T000000
END:STANDARD
END:VTIMEZONE
BEGIN:VEVENT
DTSTART;TZID=UTC:20240605T140000
DTEND;TZID=UTC:20240605T153000
DTSTAMP:20260422T095301
CREATED:20231106T104515Z
LAST-MODIFIED:20231106T104516Z
UID:10001367-1717596000-1717601400@southendinsight.org.uk
SUMMARY:Line Dancing
DESCRIPTION:All welcome\, please call to book your place.
URL:https://southendinsight.org.uk/event/line-dancing-2/2024-06-05/
LOCATION:Avenue Baptist Church\, Milton Road\, Westcliff-on-Sea\, Essex\, SS0 7PL\, United Kingdom
CATEGORIES:Regular Events
ATTACH;FMTTYPE=image/jpeg:https://southendinsight.org.uk/wp-content/uploads/2023/09/Line-Dancing.jpg
END:VEVENT
BEGIN:VEVENT
DTSTART;TZID=UTC:20240607T110000
DTEND;TZID=UTC:20240607T123000
DTSTAMP:20260422T095301
CREATED:20230224T125330Z
LAST-MODIFIED:20240429T130220Z
UID:10001483-1717758000-1717763400@southendinsight.org.uk
SUMMARY:Coffee Morning
DESCRIPTION:Tea/coffee/biscuits £1.\nAll are welcome – bring a friend!
URL:https://southendinsight.org.uk/event/coffee-morning/2024-06-07/
LOCATION:Ekco Social and Sports Club Association\, Thornford Gardens\, Southend-on-Sea\, Essex\, SS2 6PU\, United Kingdom
CATEGORIES:Regular Events
ATTACH;FMTTYPE=image/png:https://southendinsight.org.uk/wp-content/uploads/2023/01/Cup-of-coffee-with-roasted-beans-and-green-leaves-on-black-background.png
END:VEVENT
BEGIN:VEVENT
DTSTART;TZID=UTC:20240612T140000
DTEND;TZID=UTC:20240612T153000
DTSTAMP:20260422T095301
CREATED:20230224T125139Z
LAST-MODIFIED:20260112T161313Z
UID:10001155-1718200800-1718206200@southendinsight.org.uk
SUMMARY:Visually impaired Choir
DESCRIPTION:Come and join “In Sight Singers”. \nPlease call our office to book your place.
URL:https://southendinsight.org.uk/event/visually-impaired-choir/2024-06-12/
LOCATION:Avenue Baptist Church\, Milton Road\, Westcliff-on-Sea\, Essex\, SS0 7PL\, United Kingdom
CATEGORIES:Regular Events
ATTACH;FMTTYPE=image/png:https://southendinsight.org.uk/wp-content/uploads/2023/01/Close-up-of-microphone-on-stage-lighting-at-concert-hall-or-conference-room.-copy-space-banner.-soft-focus.png
END:VEVENT
BEGIN:VEVENT
DTSTART;TZID=UTC:20240621T110000
DTEND;TZID=UTC:20240621T123000
DTSTAMP:20260422T095301
CREATED:20230224T124635Z
LAST-MODIFIED:20230412T141956Z
UID:10000598-1718967600-1718973000@southendinsight.org.uk
SUMMARY:Fun Friday
DESCRIPTION:No need to book – just turn up and bring a friend!
URL:https://southendinsight.org.uk/event/fun-friday/2024-06-21/
LOCATION:Ekco Social and Sports Club Association\, Thornford Gardens\, Southend-on-Sea\, Essex\, SS2 6PU\, United Kingdom
CATEGORIES:Regular Events
ATTACH;FMTTYPE=image/png:https://southendinsight.org.uk/wp-content/uploads/2023/01/TGIF-Thank-God-Its-Friday-acronym-concept-background.png
END:VEVENT
BEGIN:VEVENT
DTSTART;TZID=UTC:20240626T140000
DTEND;TZID=UTC:20240626T153000
DTSTAMP:20260422T095301
CREATED:20230224T125139Z
LAST-MODIFIED:20260112T161313Z
UID:10001156-1719410400-1719415800@southendinsight.org.uk
SUMMARY:Visually impaired Choir
DESCRIPTION:Come and join “In Sight Singers”. \nPlease call our office to book your place.
URL:https://southendinsight.org.uk/event/visually-impaired-choir/2024-06-26/
LOCATION:Avenue Baptist Church\, Milton Road\, Westcliff-on-Sea\, Essex\, SS0 7PL\, United Kingdom
CATEGORIES:Regular Events
ATTACH;FMTTYPE=image/png:https://southendinsight.org.uk/wp-content/uploads/2023/01/Close-up-of-microphone-on-stage-lighting-at-concert-hall-or-conference-room.-copy-space-banner.-soft-focus.png
END:VEVENT
END:VCALENDAR