BEGIN:VCALENDAR
VERSION:2.0
PRODID:-//Southend in Sight - ECPv6.0.12//NONSGML v1.0//EN
CALSCALE:GREGORIAN
METHOD:PUBLISH
X-WR-CALNAME:Southend in Sight
X-ORIGINAL-URL:https://southendinsight.org.uk
X-WR-CALDESC:Events for Southend in Sight
REFRESH-INTERVAL;VALUE=DURATION:PT1H
X-Robots-Tag:noindex
X-PUBLISHED-TTL:PT1H
BEGIN:VTIMEZONE
TZID:UTC
BEGIN:STANDARD
TZOFFSETFROM:+0000
TZOFFSETTO:+0000
TZNAME:UTC
DTSTART:20260101T000000
END:STANDARD
END:VTIMEZONE
BEGIN:VEVENT
DTSTART;TZID=UTC:20260501T110000
DTEND;TZID=UTC:20260501T123000
DTSTAMP:20260423T075548
CREATED:20230224T125330Z
LAST-MODIFIED:20240429T130220Z
UID:10001506-1777633200-1777638600@southendinsight.org.uk
SUMMARY:Coffee Morning
DESCRIPTION:Tea/coffee/biscuits £1.\nAll are welcome – bring a friend!
URL:https://southendinsight.org.uk/event/coffee-morning/2026-05-01/
LOCATION:Ekco Social and Sports Club Association\, Thornford Gardens\, Southend-on-Sea\, Essex\, SS2 6PU\, United Kingdom
CATEGORIES:Regular Events
ATTACH;FMTTYPE=image/png:https://southendinsight.org.uk/wp-content/uploads/2023/01/Cup-of-coffee-with-roasted-beans-and-green-leaves-on-black-background.png
END:VEVENT
BEGIN:VEVENT
DTSTART;TZID=UTC:20260605T110000
DTEND;TZID=UTC:20260605T123000
DTSTAMP:20260423T075548
CREATED:20230224T125330Z
LAST-MODIFIED:20240429T130220Z
UID:10001507-1780657200-1780662600@southendinsight.org.uk
SUMMARY:Coffee Morning
DESCRIPTION:Tea/coffee/biscuits £1.\nAll are welcome – bring a friend!
URL:https://southendinsight.org.uk/event/coffee-morning/2026-06-05/
LOCATION:Ekco Social and Sports Club Association\, Thornford Gardens\, Southend-on-Sea\, Essex\, SS2 6PU\, United Kingdom
CATEGORIES:Regular Events
ATTACH;FMTTYPE=image/png:https://southendinsight.org.uk/wp-content/uploads/2023/01/Cup-of-coffee-with-roasted-beans-and-green-leaves-on-black-background.png
END:VEVENT
BEGIN:VEVENT
DTSTART;TZID=UTC:20260703T110000
DTEND;TZID=UTC:20260703T123000
DTSTAMP:20260423T075548
CREATED:20230224T125330Z
LAST-MODIFIED:20240429T130220Z
UID:10001508-1783076400-1783081800@southendinsight.org.uk
SUMMARY:Coffee Morning
DESCRIPTION:Tea/coffee/biscuits £1.\nAll are welcome – bring a friend!
URL:https://southendinsight.org.uk/event/coffee-morning/2026-07-03/
LOCATION:Ekco Social and Sports Club Association\, Thornford Gardens\, Southend-on-Sea\, Essex\, SS2 6PU\, United Kingdom
CATEGORIES:Regular Events
ATTACH;FMTTYPE=image/png:https://southendinsight.org.uk/wp-content/uploads/2023/01/Cup-of-coffee-with-roasted-beans-and-green-leaves-on-black-background.png
END:VEVENT
BEGIN:VEVENT
DTSTART;TZID=UTC:20260807T110000
DTEND;TZID=UTC:20260807T123000
DTSTAMP:20260423T075548
CREATED:20230224T125330Z
LAST-MODIFIED:20240429T130220Z
UID:10001509-1786100400-1786105800@southendinsight.org.uk
SUMMARY:Coffee Morning
DESCRIPTION:Tea/coffee/biscuits £1.\nAll are welcome – bring a friend!
URL:https://southendinsight.org.uk/event/coffee-morning/2026-08-07/
LOCATION:Ekco Social and Sports Club Association\, Thornford Gardens\, Southend-on-Sea\, Essex\, SS2 6PU\, United Kingdom
CATEGORIES:Regular Events
ATTACH;FMTTYPE=image/png:https://southendinsight.org.uk/wp-content/uploads/2023/01/Cup-of-coffee-with-roasted-beans-and-green-leaves-on-black-background.png
END:VEVENT
BEGIN:VEVENT
DTSTART;TZID=UTC:20260904T110000
DTEND;TZID=UTC:20260904T123000
DTSTAMP:20260423T075548
CREATED:20230224T125330Z
LAST-MODIFIED:20240429T130220Z
UID:10001510-1788519600-1788525000@southendinsight.org.uk
SUMMARY:Coffee Morning
DESCRIPTION:Tea/coffee/biscuits £1.\nAll are welcome – bring a friend!
URL:https://southendinsight.org.uk/event/coffee-morning/2026-09-04/
LOCATION:Ekco Social and Sports Club Association\, Thornford Gardens\, Southend-on-Sea\, Essex\, SS2 6PU\, United Kingdom
CATEGORIES:Regular Events
ATTACH;FMTTYPE=image/png:https://southendinsight.org.uk/wp-content/uploads/2023/01/Cup-of-coffee-with-roasted-beans-and-green-leaves-on-black-background.png
END:VEVENT
BEGIN:VEVENT
DTSTART;TZID=UTC:20261002T110000
DTEND;TZID=UTC:20261002T123000
DTSTAMP:20260423T075548
CREATED:20230224T125330Z
LAST-MODIFIED:20240429T130220Z
UID:10001511-1790938800-1790944200@southendinsight.org.uk
SUMMARY:Coffee Morning
DESCRIPTION:Tea/coffee/biscuits £1.\nAll are welcome – bring a friend!
URL:https://southendinsight.org.uk/event/coffee-morning/2026-10-02/
LOCATION:Ekco Social and Sports Club Association\, Thornford Gardens\, Southend-on-Sea\, Essex\, SS2 6PU\, United Kingdom
CATEGORIES:Regular Events
ATTACH;FMTTYPE=image/png:https://southendinsight.org.uk/wp-content/uploads/2023/01/Cup-of-coffee-with-roasted-beans-and-green-leaves-on-black-background.png
END:VEVENT
BEGIN:VEVENT
DTSTART;TZID=UTC:20261106T110000
DTEND;TZID=UTC:20261106T123000
DTSTAMP:20260423T075548
CREATED:20230224T125330Z
LAST-MODIFIED:20240429T130220Z
UID:10001512-1793962800-1793968200@southendinsight.org.uk
SUMMARY:Coffee Morning
DESCRIPTION:Tea/coffee/biscuits £1.\nAll are welcome – bring a friend!
URL:https://southendinsight.org.uk/event/coffee-morning/2026-11-06/
LOCATION:Ekco Social and Sports Club Association\, Thornford Gardens\, Southend-on-Sea\, Essex\, SS2 6PU\, United Kingdom
CATEGORIES:Regular Events
ATTACH;FMTTYPE=image/png:https://southendinsight.org.uk/wp-content/uploads/2023/01/Cup-of-coffee-with-roasted-beans-and-green-leaves-on-black-background.png
END:VEVENT
BEGIN:VEVENT
DTSTART;TZID=UTC:20261204T110000
DTEND;TZID=UTC:20261204T123000
DTSTAMP:20260423T075548
CREATED:20230224T125330Z
LAST-MODIFIED:20240429T130220Z
UID:10001513-1796382000-1796387400@southendinsight.org.uk
SUMMARY:Coffee Morning
DESCRIPTION:Tea/coffee/biscuits £1.\nAll are welcome – bring a friend!
URL:https://southendinsight.org.uk/event/coffee-morning/2026-12-04/
LOCATION:Ekco Social and Sports Club Association\, Thornford Gardens\, Southend-on-Sea\, Essex\, SS2 6PU\, United Kingdom
CATEGORIES:Regular Events
ATTACH;FMTTYPE=image/png:https://southendinsight.org.uk/wp-content/uploads/2023/01/Cup-of-coffee-with-roasted-beans-and-green-leaves-on-black-background.png
END:VEVENT
BEGIN:VEVENT
DTSTART;TZID=UTC:20270101T110000
DTEND;TZID=UTC:20270101T123000
DTSTAMP:20260423T075548
CREATED:20230224T125330Z
LAST-MODIFIED:20240429T130220Z
UID:10001514-1798801200-1798806600@southendinsight.org.uk
SUMMARY:Coffee Morning
DESCRIPTION:Tea/coffee/biscuits £1.\nAll are welcome – bring a friend!
URL:https://southendinsight.org.uk/event/coffee-morning/2027-01-01/
LOCATION:Ekco Social and Sports Club Association\, Thornford Gardens\, Southend-on-Sea\, Essex\, SS2 6PU\, United Kingdom
CATEGORIES:Regular Events
ATTACH;FMTTYPE=image/png:https://southendinsight.org.uk/wp-content/uploads/2023/01/Cup-of-coffee-with-roasted-beans-and-green-leaves-on-black-background.png
END:VEVENT
BEGIN:VEVENT
DTSTART;TZID=UTC:20270205T110000
DTEND;TZID=UTC:20270205T123000
DTSTAMP:20260423T075548
CREATED:20230224T125330Z
LAST-MODIFIED:20240429T130220Z
UID:10001515-1801825200-1801830600@southendinsight.org.uk
SUMMARY:Coffee Morning
DESCRIPTION:Tea/coffee/biscuits £1.\nAll are welcome – bring a friend!
URL:https://southendinsight.org.uk/event/coffee-morning/2027-02-05/
LOCATION:Ekco Social and Sports Club Association\, Thornford Gardens\, Southend-on-Sea\, Essex\, SS2 6PU\, United Kingdom
CATEGORIES:Regular Events
ATTACH;FMTTYPE=image/png:https://southendinsight.org.uk/wp-content/uploads/2023/01/Cup-of-coffee-with-roasted-beans-and-green-leaves-on-black-background.png
END:VEVENT
BEGIN:VEVENT
DTSTART;TZID=UTC:20270305T110000
DTEND;TZID=UTC:20270305T123000
DTSTAMP:20260423T075548
CREATED:20230224T125330Z
LAST-MODIFIED:20240429T130220Z
UID:10001516-1804244400-1804249800@southendinsight.org.uk
SUMMARY:Coffee Morning
DESCRIPTION:Tea/coffee/biscuits £1.\nAll are welcome – bring a friend!
URL:https://southendinsight.org.uk/event/coffee-morning/2027-03-05/
LOCATION:Ekco Social and Sports Club Association\, Thornford Gardens\, Southend-on-Sea\, Essex\, SS2 6PU\, United Kingdom
CATEGORIES:Regular Events
ATTACH;FMTTYPE=image/png:https://southendinsight.org.uk/wp-content/uploads/2023/01/Cup-of-coffee-with-roasted-beans-and-green-leaves-on-black-background.png
END:VEVENT
BEGIN:VEVENT
DTSTART;TZID=UTC:20270402T110000
DTEND;TZID=UTC:20270402T123000
DTSTAMP:20260423T075548
CREATED:20230224T125330Z
LAST-MODIFIED:20240429T130220Z
UID:10001517-1806663600-1806669000@southendinsight.org.uk
SUMMARY:Coffee Morning
DESCRIPTION:Tea/coffee/biscuits £1.\nAll are welcome – bring a friend!
URL:https://southendinsight.org.uk/event/coffee-morning/2027-04-02/
LOCATION:Ekco Social and Sports Club Association\, Thornford Gardens\, Southend-on-Sea\, Essex\, SS2 6PU\, United Kingdom
CATEGORIES:Regular Events
ATTACH;FMTTYPE=image/png:https://southendinsight.org.uk/wp-content/uploads/2023/01/Cup-of-coffee-with-roasted-beans-and-green-leaves-on-black-background.png
END:VEVENT
BEGIN:VEVENT
DTSTART;TZID=UTC:20270507T110000
DTEND;TZID=UTC:20270507T123000
DTSTAMP:20260423T075548
CREATED:20230224T125330Z
LAST-MODIFIED:20240429T130220Z
UID:10001518-1809687600-1809693000@southendinsight.org.uk
SUMMARY:Coffee Morning
DESCRIPTION:Tea/coffee/biscuits £1.\nAll are welcome – bring a friend!
URL:https://southendinsight.org.uk/event/coffee-morning/2027-05-07/
LOCATION:Ekco Social and Sports Club Association\, Thornford Gardens\, Southend-on-Sea\, Essex\, SS2 6PU\, United Kingdom
CATEGORIES:Regular Events
ATTACH;FMTTYPE=image/png:https://southendinsight.org.uk/wp-content/uploads/2023/01/Cup-of-coffee-with-roasted-beans-and-green-leaves-on-black-background.png
END:VEVENT
BEGIN:VEVENT
DTSTART;TZID=UTC:20270604T110000
DTEND;TZID=UTC:20270604T123000
DTSTAMP:20260423T075548
CREATED:20230224T125330Z
LAST-MODIFIED:20240429T130220Z
UID:10001519-1812106800-1812112200@southendinsight.org.uk
SUMMARY:Coffee Morning
DESCRIPTION:Tea/coffee/biscuits £1.\nAll are welcome – bring a friend!
URL:https://southendinsight.org.uk/event/coffee-morning/2027-06-04/
LOCATION:Ekco Social and Sports Club Association\, Thornford Gardens\, Southend-on-Sea\, Essex\, SS2 6PU\, United Kingdom
CATEGORIES:Regular Events
ATTACH;FMTTYPE=image/png:https://southendinsight.org.uk/wp-content/uploads/2023/01/Cup-of-coffee-with-roasted-beans-and-green-leaves-on-black-background.png
END:VEVENT
BEGIN:VEVENT
DTSTART;TZID=UTC:20270702T110000
DTEND;TZID=UTC:20270702T123000
DTSTAMP:20260423T075548
CREATED:20230224T125330Z
LAST-MODIFIED:20240429T130220Z
UID:10001520-1814526000-1814531400@southendinsight.org.uk
SUMMARY:Coffee Morning
DESCRIPTION:Tea/coffee/biscuits £1.\nAll are welcome – bring a friend!
URL:https://southendinsight.org.uk/event/coffee-morning/2027-07-02/
LOCATION:Ekco Social and Sports Club Association\, Thornford Gardens\, Southend-on-Sea\, Essex\, SS2 6PU\, United Kingdom
CATEGORIES:Regular Events
ATTACH;FMTTYPE=image/png:https://southendinsight.org.uk/wp-content/uploads/2023/01/Cup-of-coffee-with-roasted-beans-and-green-leaves-on-black-background.png
END:VEVENT
BEGIN:VEVENT
DTSTART;TZID=UTC:20270806T110000
DTEND;TZID=UTC:20270806T123000
DTSTAMP:20260423T075548
CREATED:20230224T125330Z
LAST-MODIFIED:20240429T130220Z
UID:10001521-1817550000-1817555400@southendinsight.org.uk
SUMMARY:Coffee Morning
DESCRIPTION:Tea/coffee/biscuits £1.\nAll are welcome – bring a friend!
URL:https://southendinsight.org.uk/event/coffee-morning/2027-08-06/
LOCATION:Ekco Social and Sports Club Association\, Thornford Gardens\, Southend-on-Sea\, Essex\, SS2 6PU\, United Kingdom
CATEGORIES:Regular Events
ATTACH;FMTTYPE=image/png:https://southendinsight.org.uk/wp-content/uploads/2023/01/Cup-of-coffee-with-roasted-beans-and-green-leaves-on-black-background.png
END:VEVENT
BEGIN:VEVENT
DTSTART;TZID=UTC:20270903T110000
DTEND;TZID=UTC:20270903T123000
DTSTAMP:20260423T075548
CREATED:20230224T125330Z
LAST-MODIFIED:20240429T130220Z
UID:10001522-1819969200-1819974600@southendinsight.org.uk
SUMMARY:Coffee Morning
DESCRIPTION:Tea/coffee/biscuits £1.\nAll are welcome – bring a friend!
URL:https://southendinsight.org.uk/event/coffee-morning/2027-09-03/
LOCATION:Ekco Social and Sports Club Association\, Thornford Gardens\, Southend-on-Sea\, Essex\, SS2 6PU\, United Kingdom
CATEGORIES:Regular Events
ATTACH;FMTTYPE=image/png:https://southendinsight.org.uk/wp-content/uploads/2023/01/Cup-of-coffee-with-roasted-beans-and-green-leaves-on-black-background.png
END:VEVENT
BEGIN:VEVENT
DTSTART;TZID=UTC:20271001T110000
DTEND;TZID=UTC:20271001T123000
DTSTAMP:20260423T075548
CREATED:20230224T125330Z
LAST-MODIFIED:20240429T130220Z
UID:10001523-1822388400-1822393800@southendinsight.org.uk
SUMMARY:Coffee Morning
DESCRIPTION:Tea/coffee/biscuits £1.\nAll are welcome – bring a friend!
URL:https://southendinsight.org.uk/event/coffee-morning/2027-10-01/
LOCATION:Ekco Social and Sports Club Association\, Thornford Gardens\, Southend-on-Sea\, Essex\, SS2 6PU\, United Kingdom
CATEGORIES:Regular Events
ATTACH;FMTTYPE=image/png:https://southendinsight.org.uk/wp-content/uploads/2023/01/Cup-of-coffee-with-roasted-beans-and-green-leaves-on-black-background.png
END:VEVENT
BEGIN:VEVENT
DTSTART;TZID=UTC:20271105T110000
DTEND;TZID=UTC:20271105T123000
DTSTAMP:20260423T075548
CREATED:20230224T125330Z
LAST-MODIFIED:20240429T130220Z
UID:10001524-1825412400-1825417800@southendinsight.org.uk
SUMMARY:Coffee Morning
DESCRIPTION:Tea/coffee/biscuits £1.\nAll are welcome – bring a friend!
URL:https://southendinsight.org.uk/event/coffee-morning/2027-11-05/
LOCATION:Ekco Social and Sports Club Association\, Thornford Gardens\, Southend-on-Sea\, Essex\, SS2 6PU\, United Kingdom
CATEGORIES:Regular Events
ATTACH;FMTTYPE=image/png:https://southendinsight.org.uk/wp-content/uploads/2023/01/Cup-of-coffee-with-roasted-beans-and-green-leaves-on-black-background.png
END:VEVENT
BEGIN:VEVENT
DTSTART;TZID=UTC:20271203T110000
DTEND;TZID=UTC:20271203T123000
DTSTAMP:20260423T075548
CREATED:20230224T125330Z
LAST-MODIFIED:20240429T130220Z
UID:10001525-1827831600-1827837000@southendinsight.org.uk
SUMMARY:Coffee Morning
DESCRIPTION:Tea/coffee/biscuits £1.\nAll are welcome – bring a friend!
URL:https://southendinsight.org.uk/event/coffee-morning/2027-12-03/
LOCATION:Ekco Social and Sports Club Association\, Thornford Gardens\, Southend-on-Sea\, Essex\, SS2 6PU\, United Kingdom
CATEGORIES:Regular Events
ATTACH;FMTTYPE=image/png:https://southendinsight.org.uk/wp-content/uploads/2023/01/Cup-of-coffee-with-roasted-beans-and-green-leaves-on-black-background.png
END:VEVENT
BEGIN:VEVENT
DTSTART;TZID=UTC:20280107T110000
DTEND;TZID=UTC:20280107T123000
DTSTAMP:20260423T075548
CREATED:20230224T125330Z
LAST-MODIFIED:20240429T130220Z
UID:10001526-1830855600-1830861000@southendinsight.org.uk
SUMMARY:Coffee Morning
DESCRIPTION:Tea/coffee/biscuits £1.\nAll are welcome – bring a friend!
URL:https://southendinsight.org.uk/event/coffee-morning/2028-01-07/
LOCATION:Ekco Social and Sports Club Association\, Thornford Gardens\, Southend-on-Sea\, Essex\, SS2 6PU\, United Kingdom
CATEGORIES:Regular Events
ATTACH;FMTTYPE=image/png:https://southendinsight.org.uk/wp-content/uploads/2023/01/Cup-of-coffee-with-roasted-beans-and-green-leaves-on-black-background.png
END:VEVENT
BEGIN:VEVENT
DTSTART;TZID=UTC:20280204T110000
DTEND;TZID=UTC:20280204T123000
DTSTAMP:20260423T075548
CREATED:20230224T125330Z
LAST-MODIFIED:20240429T130220Z
UID:10001527-1833274800-1833280200@southendinsight.org.uk
SUMMARY:Coffee Morning
DESCRIPTION:Tea/coffee/biscuits £1.\nAll are welcome – bring a friend!
URL:https://southendinsight.org.uk/event/coffee-morning/2028-02-04/
LOCATION:Ekco Social and Sports Club Association\, Thornford Gardens\, Southend-on-Sea\, Essex\, SS2 6PU\, United Kingdom
CATEGORIES:Regular Events
ATTACH;FMTTYPE=image/png:https://southendinsight.org.uk/wp-content/uploads/2023/01/Cup-of-coffee-with-roasted-beans-and-green-leaves-on-black-background.png
END:VEVENT
BEGIN:VEVENT
DTSTART;TZID=UTC:20280303T110000
DTEND;TZID=UTC:20280303T123000
DTSTAMP:20260423T075548
CREATED:20230224T125330Z
LAST-MODIFIED:20240429T130220Z
UID:10001528-1835694000-1835699400@southendinsight.org.uk
SUMMARY:Coffee Morning
DESCRIPTION:Tea/coffee/biscuits £1.\nAll are welcome – bring a friend!
URL:https://southendinsight.org.uk/event/coffee-morning/2028-03-03/
LOCATION:Ekco Social and Sports Club Association\, Thornford Gardens\, Southend-on-Sea\, Essex\, SS2 6PU\, United Kingdom
CATEGORIES:Regular Events
ATTACH;FMTTYPE=image/png:https://southendinsight.org.uk/wp-content/uploads/2023/01/Cup-of-coffee-with-roasted-beans-and-green-leaves-on-black-background.png
END:VEVENT
BEGIN:VEVENT
DTSTART;TZID=UTC:20280407T110000
DTEND;TZID=UTC:20280407T123000
DTSTAMP:20260423T075548
CREATED:20230224T125330Z
LAST-MODIFIED:20240429T130220Z
UID:10001529-1838718000-1838723400@southendinsight.org.uk
SUMMARY:Coffee Morning
DESCRIPTION:Tea/coffee/biscuits £1.\nAll are welcome – bring a friend!
URL:https://southendinsight.org.uk/event/coffee-morning/2028-04-07/
LOCATION:Ekco Social and Sports Club Association\, Thornford Gardens\, Southend-on-Sea\, Essex\, SS2 6PU\, United Kingdom
CATEGORIES:Regular Events
ATTACH;FMTTYPE=image/png:https://southendinsight.org.uk/wp-content/uploads/2023/01/Cup-of-coffee-with-roasted-beans-and-green-leaves-on-black-background.png
END:VEVENT
BEGIN:VEVENT
DTSTART;TZID=UTC:20280505T110000
DTEND;TZID=UTC:20280505T123000
DTSTAMP:20260423T075548
CREATED:20230224T125330Z
LAST-MODIFIED:20240429T130220Z
UID:10001530-1841137200-1841142600@southendinsight.org.uk
SUMMARY:Coffee Morning
DESCRIPTION:Tea/coffee/biscuits £1.\nAll are welcome – bring a friend!
URL:https://southendinsight.org.uk/event/coffee-morning/2028-05-05/
LOCATION:Ekco Social and Sports Club Association\, Thornford Gardens\, Southend-on-Sea\, Essex\, SS2 6PU\, United Kingdom
CATEGORIES:Regular Events
ATTACH;FMTTYPE=image/png:https://southendinsight.org.uk/wp-content/uploads/2023/01/Cup-of-coffee-with-roasted-beans-and-green-leaves-on-black-background.png
END:VEVENT
BEGIN:VEVENT
DTSTART;TZID=UTC:20280602T110000
DTEND;TZID=UTC:20280602T123000
DTSTAMP:20260423T075548
CREATED:20230224T125330Z
LAST-MODIFIED:20240429T130220Z
UID:10001531-1843556400-1843561800@southendinsight.org.uk
SUMMARY:Coffee Morning
DESCRIPTION:Tea/coffee/biscuits £1.\nAll are welcome – bring a friend!
URL:https://southendinsight.org.uk/event/coffee-morning/2028-06-02/
LOCATION:Ekco Social and Sports Club Association\, Thornford Gardens\, Southend-on-Sea\, Essex\, SS2 6PU\, United Kingdom
CATEGORIES:Regular Events
ATTACH;FMTTYPE=image/png:https://southendinsight.org.uk/wp-content/uploads/2023/01/Cup-of-coffee-with-roasted-beans-and-green-leaves-on-black-background.png
END:VEVENT
BEGIN:VEVENT
DTSTART;TZID=UTC:20280707T110000
DTEND;TZID=UTC:20280707T123000
DTSTAMP:20260423T075548
CREATED:20230224T125330Z
LAST-MODIFIED:20240429T130220Z
UID:10001532-1846580400-1846585800@southendinsight.org.uk
SUMMARY:Coffee Morning
DESCRIPTION:Tea/coffee/biscuits £1.\nAll are welcome – bring a friend!
URL:https://southendinsight.org.uk/event/coffee-morning/2028-07-07/
LOCATION:Ekco Social and Sports Club Association\, Thornford Gardens\, Southend-on-Sea\, Essex\, SS2 6PU\, United Kingdom
CATEGORIES:Regular Events
ATTACH;FMTTYPE=image/png:https://southendinsight.org.uk/wp-content/uploads/2023/01/Cup-of-coffee-with-roasted-beans-and-green-leaves-on-black-background.png
END:VEVENT
BEGIN:VEVENT
DTSTART;TZID=UTC:20280804T110000
DTEND;TZID=UTC:20280804T123000
DTSTAMP:20260423T075548
CREATED:20230224T125330Z
LAST-MODIFIED:20240429T130220Z
UID:10001533-1848999600-1849005000@southendinsight.org.uk
SUMMARY:Coffee Morning
DESCRIPTION:Tea/coffee/biscuits £1.\nAll are welcome – bring a friend!
URL:https://southendinsight.org.uk/event/coffee-morning/2028-08-04/
LOCATION:Ekco Social and Sports Club Association\, Thornford Gardens\, Southend-on-Sea\, Essex\, SS2 6PU\, United Kingdom
CATEGORIES:Regular Events
ATTACH;FMTTYPE=image/png:https://southendinsight.org.uk/wp-content/uploads/2023/01/Cup-of-coffee-with-roasted-beans-and-green-leaves-on-black-background.png
END:VEVENT
BEGIN:VEVENT
DTSTART;TZID=UTC:20280901T110000
DTEND;TZID=UTC:20280901T123000
DTSTAMP:20260423T075548
CREATED:20230224T125330Z
LAST-MODIFIED:20240429T130220Z
UID:10001534-1851418800-1851424200@southendinsight.org.uk
SUMMARY:Coffee Morning
DESCRIPTION:Tea/coffee/biscuits £1.\nAll are welcome – bring a friend!
URL:https://southendinsight.org.uk/event/coffee-morning/2028-09-01/
LOCATION:Ekco Social and Sports Club Association\, Thornford Gardens\, Southend-on-Sea\, Essex\, SS2 6PU\, United Kingdom
CATEGORIES:Regular Events
ATTACH;FMTTYPE=image/png:https://southendinsight.org.uk/wp-content/uploads/2023/01/Cup-of-coffee-with-roasted-beans-and-green-leaves-on-black-background.png
END:VEVENT
BEGIN:VEVENT
DTSTART;TZID=UTC:20281006T110000
DTEND;TZID=UTC:20281006T123000
DTSTAMP:20260423T075548
CREATED:20230224T125330Z
LAST-MODIFIED:20240429T130220Z
UID:10001535-1854442800-1854448200@southendinsight.org.uk
SUMMARY:Coffee Morning
DESCRIPTION:Tea/coffee/biscuits £1.\nAll are welcome – bring a friend!
URL:https://southendinsight.org.uk/event/coffee-morning/2028-10-06/
LOCATION:Ekco Social and Sports Club Association\, Thornford Gardens\, Southend-on-Sea\, Essex\, SS2 6PU\, United Kingdom
CATEGORIES:Regular Events
ATTACH;FMTTYPE=image/png:https://southendinsight.org.uk/wp-content/uploads/2023/01/Cup-of-coffee-with-roasted-beans-and-green-leaves-on-black-background.png
END:VEVENT
END:VCALENDAR