BEGIN:VCALENDAR
VERSION:2.0
PRODID:-//Southend in Sight - ECPv6.0.12//NONSGML v1.0//EN
CALSCALE:GREGORIAN
METHOD:PUBLISH
X-ORIGINAL-URL:https://southendinsight.org.uk
X-WR-CALDESC:Events for Southend in Sight
REFRESH-INTERVAL;VALUE=DURATION:PT1H
X-Robots-Tag:noindex
X-PUBLISHED-TTL:PT1H
BEGIN:VTIMEZONE
TZID:UTC
BEGIN:STANDARD
TZOFFSETFROM:+0000
TZOFFSETTO:+0000
TZNAME:UTC
DTSTART:20280101T000000
END:STANDARD
END:VTIMEZONE
BEGIN:VEVENT
DTSTART;TZID=UTC:20280525T110000
DTEND;TZID=UTC:20280525T133000
DTSTAMP:20260425T180244
CREATED:20260114T155615Z
LAST-MODIFIED:20260220T162306Z
UID:10002822-1842865200-1842874200@southendinsight.org.uk
SUMMARY:Ten Pin Bowling
DESCRIPTION:Weekly Ten Pin Bowling at CJ’s. \nPlease call our office to book your place
URL:https://southendinsight.org.uk/event/ten-pin-bowling-3/2028-05-25/
LOCATION:CJ’s Bowling\, Eldon Way\, Hockley\, Essex\, SS5 4AD\, United Kingdom
CATEGORIES:Regular Events
ATTACH;FMTTYPE=image/jpeg:https://southendinsight.org.uk/wp-content/uploads/2026/01/Ten-Pin-Bowling.jpg
END:VEVENT
BEGIN:VEVENT
DTSTART;TZID=UTC:20280601T110000
DTEND;TZID=UTC:20280601T133000
DTSTAMP:20260425T180244
CREATED:20260114T155615Z
LAST-MODIFIED:20260220T162306Z
UID:10002823-1843470000-1843479000@southendinsight.org.uk
SUMMARY:Ten Pin Bowling
DESCRIPTION:Weekly Ten Pin Bowling at CJ’s. \nPlease call our office to book your place
URL:https://southendinsight.org.uk/event/ten-pin-bowling-3/2028-06-01/
LOCATION:CJ’s Bowling\, Eldon Way\, Hockley\, Essex\, SS5 4AD\, United Kingdom
CATEGORIES:Regular Events
ATTACH;FMTTYPE=image/jpeg:https://southendinsight.org.uk/wp-content/uploads/2026/01/Ten-Pin-Bowling.jpg
END:VEVENT
BEGIN:VEVENT
DTSTART;TZID=UTC:20280608T110000
DTEND;TZID=UTC:20280608T133000
DTSTAMP:20260425T180244
CREATED:20260114T155615Z
LAST-MODIFIED:20260220T162306Z
UID:10002824-1844074800-1844083800@southendinsight.org.uk
SUMMARY:Ten Pin Bowling
DESCRIPTION:Weekly Ten Pin Bowling at CJ’s. \nPlease call our office to book your place
URL:https://southendinsight.org.uk/event/ten-pin-bowling-3/2028-06-08/
LOCATION:CJ’s Bowling\, Eldon Way\, Hockley\, Essex\, SS5 4AD\, United Kingdom
CATEGORIES:Regular Events
ATTACH;FMTTYPE=image/jpeg:https://southendinsight.org.uk/wp-content/uploads/2026/01/Ten-Pin-Bowling.jpg
END:VEVENT
BEGIN:VEVENT
DTSTART;TZID=UTC:20280615T110000
DTEND;TZID=UTC:20280615T133000
DTSTAMP:20260425T180244
CREATED:20260114T155615Z
LAST-MODIFIED:20260220T162306Z
UID:10002825-1844679600-1844688600@southendinsight.org.uk
SUMMARY:Ten Pin Bowling
DESCRIPTION:Weekly Ten Pin Bowling at CJ’s. \nPlease call our office to book your place
URL:https://southendinsight.org.uk/event/ten-pin-bowling-3/2028-06-15/
LOCATION:CJ’s Bowling\, Eldon Way\, Hockley\, Essex\, SS5 4AD\, United Kingdom
CATEGORIES:Regular Events
ATTACH;FMTTYPE=image/jpeg:https://southendinsight.org.uk/wp-content/uploads/2026/01/Ten-Pin-Bowling.jpg
END:VEVENT
BEGIN:VEVENT
DTSTART;TZID=UTC:20280622T110000
DTEND;TZID=UTC:20280622T133000
DTSTAMP:20260425T180244
CREATED:20260114T155615Z
LAST-MODIFIED:20260220T162306Z
UID:10002826-1845284400-1845293400@southendinsight.org.uk
SUMMARY:Ten Pin Bowling
DESCRIPTION:Weekly Ten Pin Bowling at CJ’s. \nPlease call our office to book your place
URL:https://southendinsight.org.uk/event/ten-pin-bowling-3/2028-06-22/
LOCATION:CJ’s Bowling\, Eldon Way\, Hockley\, Essex\, SS5 4AD\, United Kingdom
CATEGORIES:Regular Events
ATTACH;FMTTYPE=image/jpeg:https://southendinsight.org.uk/wp-content/uploads/2026/01/Ten-Pin-Bowling.jpg
END:VEVENT
BEGIN:VEVENT
DTSTART;TZID=UTC:20280629T110000
DTEND;TZID=UTC:20280629T133000
DTSTAMP:20260425T180244
CREATED:20260114T155615Z
LAST-MODIFIED:20260220T162306Z
UID:10002827-1845889200-1845898200@southendinsight.org.uk
SUMMARY:Ten Pin Bowling
DESCRIPTION:Weekly Ten Pin Bowling at CJ’s. \nPlease call our office to book your place
URL:https://southendinsight.org.uk/event/ten-pin-bowling-3/2028-06-29/
LOCATION:CJ’s Bowling\, Eldon Way\, Hockley\, Essex\, SS5 4AD\, United Kingdom
CATEGORIES:Regular Events
ATTACH;FMTTYPE=image/jpeg:https://southendinsight.org.uk/wp-content/uploads/2026/01/Ten-Pin-Bowling.jpg
END:VEVENT
BEGIN:VEVENT
DTSTART;TZID=UTC:20280706T110000
DTEND;TZID=UTC:20280706T133000
DTSTAMP:20260425T180244
CREATED:20260114T155615Z
LAST-MODIFIED:20260220T162306Z
UID:10002828-1846494000-1846503000@southendinsight.org.uk
SUMMARY:Ten Pin Bowling
DESCRIPTION:Weekly Ten Pin Bowling at CJ’s. \nPlease call our office to book your place
URL:https://southendinsight.org.uk/event/ten-pin-bowling-3/2028-07-06/
LOCATION:CJ’s Bowling\, Eldon Way\, Hockley\, Essex\, SS5 4AD\, United Kingdom
CATEGORIES:Regular Events
ATTACH;FMTTYPE=image/jpeg:https://southendinsight.org.uk/wp-content/uploads/2026/01/Ten-Pin-Bowling.jpg
END:VEVENT
BEGIN:VEVENT
DTSTART;TZID=UTC:20280713T110000
DTEND;TZID=UTC:20280713T133000
DTSTAMP:20260425T180244
CREATED:20260114T155615Z
LAST-MODIFIED:20260220T162306Z
UID:10002829-1847098800-1847107800@southendinsight.org.uk
SUMMARY:Ten Pin Bowling
DESCRIPTION:Weekly Ten Pin Bowling at CJ’s. \nPlease call our office to book your place
URL:https://southendinsight.org.uk/event/ten-pin-bowling-3/2028-07-13/
LOCATION:CJ’s Bowling\, Eldon Way\, Hockley\, Essex\, SS5 4AD\, United Kingdom
CATEGORIES:Regular Events
ATTACH;FMTTYPE=image/jpeg:https://southendinsight.org.uk/wp-content/uploads/2026/01/Ten-Pin-Bowling.jpg
END:VEVENT
BEGIN:VEVENT
DTSTART;TZID=UTC:20280720T110000
DTEND;TZID=UTC:20280720T133000
DTSTAMP:20260425T180244
CREATED:20260114T155615Z
LAST-MODIFIED:20260220T162306Z
UID:10002830-1847703600-1847712600@southendinsight.org.uk
SUMMARY:Ten Pin Bowling
DESCRIPTION:Weekly Ten Pin Bowling at CJ’s. \nPlease call our office to book your place
URL:https://southendinsight.org.uk/event/ten-pin-bowling-3/2028-07-20/
LOCATION:CJ’s Bowling\, Eldon Way\, Hockley\, Essex\, SS5 4AD\, United Kingdom
CATEGORIES:Regular Events
ATTACH;FMTTYPE=image/jpeg:https://southendinsight.org.uk/wp-content/uploads/2026/01/Ten-Pin-Bowling.jpg
END:VEVENT
BEGIN:VEVENT
DTSTART;TZID=UTC:20280727T110000
DTEND;TZID=UTC:20280727T133000
DTSTAMP:20260425T180244
CREATED:20260114T155615Z
LAST-MODIFIED:20260220T162306Z
UID:10002831-1848308400-1848317400@southendinsight.org.uk
SUMMARY:Ten Pin Bowling
DESCRIPTION:Weekly Ten Pin Bowling at CJ’s. \nPlease call our office to book your place
URL:https://southendinsight.org.uk/event/ten-pin-bowling-3/2028-07-27/
LOCATION:CJ’s Bowling\, Eldon Way\, Hockley\, Essex\, SS5 4AD\, United Kingdom
CATEGORIES:Regular Events
ATTACH;FMTTYPE=image/jpeg:https://southendinsight.org.uk/wp-content/uploads/2026/01/Ten-Pin-Bowling.jpg
END:VEVENT
BEGIN:VEVENT
DTSTART;TZID=UTC:20280803T110000
DTEND;TZID=UTC:20280803T133000
DTSTAMP:20260425T180244
CREATED:20260114T155615Z
LAST-MODIFIED:20260220T162306Z
UID:10002832-1848913200-1848922200@southendinsight.org.uk
SUMMARY:Ten Pin Bowling
DESCRIPTION:Weekly Ten Pin Bowling at CJ’s. \nPlease call our office to book your place
URL:https://southendinsight.org.uk/event/ten-pin-bowling-3/2028-08-03/
LOCATION:CJ’s Bowling\, Eldon Way\, Hockley\, Essex\, SS5 4AD\, United Kingdom
CATEGORIES:Regular Events
ATTACH;FMTTYPE=image/jpeg:https://southendinsight.org.uk/wp-content/uploads/2026/01/Ten-Pin-Bowling.jpg
END:VEVENT
BEGIN:VEVENT
DTSTART;TZID=UTC:20280810T110000
DTEND;TZID=UTC:20280810T133000
DTSTAMP:20260425T180244
CREATED:20260114T155615Z
LAST-MODIFIED:20260220T162306Z
UID:10002833-1849518000-1849527000@southendinsight.org.uk
SUMMARY:Ten Pin Bowling
DESCRIPTION:Weekly Ten Pin Bowling at CJ’s. \nPlease call our office to book your place
URL:https://southendinsight.org.uk/event/ten-pin-bowling-3/2028-08-10/
LOCATION:CJ’s Bowling\, Eldon Way\, Hockley\, Essex\, SS5 4AD\, United Kingdom
CATEGORIES:Regular Events
ATTACH;FMTTYPE=image/jpeg:https://southendinsight.org.uk/wp-content/uploads/2026/01/Ten-Pin-Bowling.jpg
END:VEVENT
BEGIN:VEVENT
DTSTART;TZID=UTC:20280817T110000
DTEND;TZID=UTC:20280817T133000
DTSTAMP:20260425T180244
CREATED:20260114T155615Z
LAST-MODIFIED:20260220T162306Z
UID:10002834-1850122800-1850131800@southendinsight.org.uk
SUMMARY:Ten Pin Bowling
DESCRIPTION:Weekly Ten Pin Bowling at CJ’s. \nPlease call our office to book your place
URL:https://southendinsight.org.uk/event/ten-pin-bowling-3/2028-08-17/
LOCATION:CJ’s Bowling\, Eldon Way\, Hockley\, Essex\, SS5 4AD\, United Kingdom
CATEGORIES:Regular Events
ATTACH;FMTTYPE=image/jpeg:https://southendinsight.org.uk/wp-content/uploads/2026/01/Ten-Pin-Bowling.jpg
END:VEVENT
BEGIN:VEVENT
DTSTART;TZID=UTC:20280824T110000
DTEND;TZID=UTC:20280824T133000
DTSTAMP:20260425T180244
CREATED:20260114T155615Z
LAST-MODIFIED:20260220T162306Z
UID:10002835-1850727600-1850736600@southendinsight.org.uk
SUMMARY:Ten Pin Bowling
DESCRIPTION:Weekly Ten Pin Bowling at CJ’s. \nPlease call our office to book your place
URL:https://southendinsight.org.uk/event/ten-pin-bowling-3/2028-08-24/
LOCATION:CJ’s Bowling\, Eldon Way\, Hockley\, Essex\, SS5 4AD\, United Kingdom
CATEGORIES:Regular Events
ATTACH;FMTTYPE=image/jpeg:https://southendinsight.org.uk/wp-content/uploads/2026/01/Ten-Pin-Bowling.jpg
END:VEVENT
BEGIN:VEVENT
DTSTART;TZID=UTC:20280831T110000
DTEND;TZID=UTC:20280831T133000
DTSTAMP:20260425T180244
CREATED:20260114T155615Z
LAST-MODIFIED:20260220T162306Z
UID:10002836-1851332400-1851341400@southendinsight.org.uk
SUMMARY:Ten Pin Bowling
DESCRIPTION:Weekly Ten Pin Bowling at CJ’s. \nPlease call our office to book your place
URL:https://southendinsight.org.uk/event/ten-pin-bowling-3/2028-08-31/
LOCATION:CJ’s Bowling\, Eldon Way\, Hockley\, Essex\, SS5 4AD\, United Kingdom
CATEGORIES:Regular Events
ATTACH;FMTTYPE=image/jpeg:https://southendinsight.org.uk/wp-content/uploads/2026/01/Ten-Pin-Bowling.jpg
END:VEVENT
BEGIN:VEVENT
DTSTART;TZID=UTC:20280907T110000
DTEND;TZID=UTC:20280907T133000
DTSTAMP:20260425T180244
CREATED:20260114T155615Z
LAST-MODIFIED:20260220T162306Z
UID:10002837-1851937200-1851946200@southendinsight.org.uk
SUMMARY:Ten Pin Bowling
DESCRIPTION:Weekly Ten Pin Bowling at CJ’s. \nPlease call our office to book your place
URL:https://southendinsight.org.uk/event/ten-pin-bowling-3/2028-09-07/
LOCATION:CJ’s Bowling\, Eldon Way\, Hockley\, Essex\, SS5 4AD\, United Kingdom
CATEGORIES:Regular Events
ATTACH;FMTTYPE=image/jpeg:https://southendinsight.org.uk/wp-content/uploads/2026/01/Ten-Pin-Bowling.jpg
END:VEVENT
BEGIN:VEVENT
DTSTART;TZID=UTC:20280914T110000
DTEND;TZID=UTC:20280914T133000
DTSTAMP:20260425T180244
CREATED:20260114T155615Z
LAST-MODIFIED:20260220T162306Z
UID:10002838-1852542000-1852551000@southendinsight.org.uk
SUMMARY:Ten Pin Bowling
DESCRIPTION:Weekly Ten Pin Bowling at CJ’s. \nPlease call our office to book your place
URL:https://southendinsight.org.uk/event/ten-pin-bowling-3/2028-09-14/
LOCATION:CJ’s Bowling\, Eldon Way\, Hockley\, Essex\, SS5 4AD\, United Kingdom
CATEGORIES:Regular Events
ATTACH;FMTTYPE=image/jpeg:https://southendinsight.org.uk/wp-content/uploads/2026/01/Ten-Pin-Bowling.jpg
END:VEVENT
BEGIN:VEVENT
DTSTART;TZID=UTC:20280921T110000
DTEND;TZID=UTC:20280921T133000
DTSTAMP:20260425T180244
CREATED:20260114T155615Z
LAST-MODIFIED:20260220T162306Z
UID:10002839-1853146800-1853155800@southendinsight.org.uk
SUMMARY:Ten Pin Bowling
DESCRIPTION:Weekly Ten Pin Bowling at CJ’s. \nPlease call our office to book your place
URL:https://southendinsight.org.uk/event/ten-pin-bowling-3/2028-09-21/
LOCATION:CJ’s Bowling\, Eldon Way\, Hockley\, Essex\, SS5 4AD\, United Kingdom
CATEGORIES:Regular Events
ATTACH;FMTTYPE=image/jpeg:https://southendinsight.org.uk/wp-content/uploads/2026/01/Ten-Pin-Bowling.jpg
END:VEVENT
BEGIN:VEVENT
DTSTART;TZID=UTC:20280928T110000
DTEND;TZID=UTC:20280928T133000
DTSTAMP:20260425T180244
CREATED:20260114T155615Z
LAST-MODIFIED:20260220T162306Z
UID:10002840-1853751600-1853760600@southendinsight.org.uk
SUMMARY:Ten Pin Bowling
DESCRIPTION:Weekly Ten Pin Bowling at CJ’s. \nPlease call our office to book your place
URL:https://southendinsight.org.uk/event/ten-pin-bowling-3/2028-09-28/
LOCATION:CJ’s Bowling\, Eldon Way\, Hockley\, Essex\, SS5 4AD\, United Kingdom
CATEGORIES:Regular Events
ATTACH;FMTTYPE=image/jpeg:https://southendinsight.org.uk/wp-content/uploads/2026/01/Ten-Pin-Bowling.jpg
END:VEVENT
BEGIN:VEVENT
DTSTART;TZID=UTC:20281005T110000
DTEND;TZID=UTC:20281005T133000
DTSTAMP:20260425T180244
CREATED:20260114T155615Z
LAST-MODIFIED:20260220T162306Z
UID:10002841-1854356400-1854365400@southendinsight.org.uk
SUMMARY:Ten Pin Bowling
DESCRIPTION:Weekly Ten Pin Bowling at CJ’s. \nPlease call our office to book your place
URL:https://southendinsight.org.uk/event/ten-pin-bowling-3/2028-10-05/
LOCATION:CJ’s Bowling\, Eldon Way\, Hockley\, Essex\, SS5 4AD\, United Kingdom
CATEGORIES:Regular Events
ATTACH;FMTTYPE=image/jpeg:https://southendinsight.org.uk/wp-content/uploads/2026/01/Ten-Pin-Bowling.jpg
END:VEVENT
BEGIN:VEVENT
DTSTART;TZID=UTC:20281012T110000
DTEND;TZID=UTC:20281012T133000
DTSTAMP:20260425T180244
CREATED:20260114T155615Z
LAST-MODIFIED:20260220T162306Z
UID:10002842-1854961200-1854970200@southendinsight.org.uk
SUMMARY:Ten Pin Bowling
DESCRIPTION:Weekly Ten Pin Bowling at CJ’s. \nPlease call our office to book your place
URL:https://southendinsight.org.uk/event/ten-pin-bowling-3/2028-10-12/
LOCATION:CJ’s Bowling\, Eldon Way\, Hockley\, Essex\, SS5 4AD\, United Kingdom
CATEGORIES:Regular Events
ATTACH;FMTTYPE=image/jpeg:https://southendinsight.org.uk/wp-content/uploads/2026/01/Ten-Pin-Bowling.jpg
END:VEVENT
BEGIN:VEVENT
DTSTART;TZID=UTC:20281019T110000
DTEND;TZID=UTC:20281019T133000
DTSTAMP:20260425T180244
CREATED:20260114T155615Z
LAST-MODIFIED:20260220T162306Z
UID:10002843-1855566000-1855575000@southendinsight.org.uk
SUMMARY:Ten Pin Bowling
DESCRIPTION:Weekly Ten Pin Bowling at CJ’s. \nPlease call our office to book your place
URL:https://southendinsight.org.uk/event/ten-pin-bowling-3/2028-10-19/
LOCATION:CJ’s Bowling\, Eldon Way\, Hockley\, Essex\, SS5 4AD\, United Kingdom
CATEGORIES:Regular Events
ATTACH;FMTTYPE=image/jpeg:https://southendinsight.org.uk/wp-content/uploads/2026/01/Ten-Pin-Bowling.jpg
END:VEVENT
BEGIN:VEVENT
DTSTART;TZID=UTC:20281026T110000
DTEND;TZID=UTC:20281026T133000
DTSTAMP:20260425T180244
CREATED:20260114T155615Z
LAST-MODIFIED:20260220T162306Z
UID:10002844-1856170800-1856179800@southendinsight.org.uk
SUMMARY:Ten Pin Bowling
DESCRIPTION:Weekly Ten Pin Bowling at CJ’s. \nPlease call our office to book your place
URL:https://southendinsight.org.uk/event/ten-pin-bowling-3/2028-10-26/
LOCATION:CJ’s Bowling\, Eldon Way\, Hockley\, Essex\, SS5 4AD\, United Kingdom
CATEGORIES:Regular Events
ATTACH;FMTTYPE=image/jpeg:https://southendinsight.org.uk/wp-content/uploads/2026/01/Ten-Pin-Bowling.jpg
END:VEVENT
BEGIN:VEVENT
DTSTART;TZID=UTC:20281102T110000
DTEND;TZID=UTC:20281102T133000
DTSTAMP:20260425T180244
CREATED:20260114T155615Z
LAST-MODIFIED:20260220T162306Z
UID:10002845-1856775600-1856784600@southendinsight.org.uk
SUMMARY:Ten Pin Bowling
DESCRIPTION:Weekly Ten Pin Bowling at CJ’s. \nPlease call our office to book your place
URL:https://southendinsight.org.uk/event/ten-pin-bowling-3/2028-11-02/
LOCATION:CJ’s Bowling\, Eldon Way\, Hockley\, Essex\, SS5 4AD\, United Kingdom
CATEGORIES:Regular Events
ATTACH;FMTTYPE=image/jpeg:https://southendinsight.org.uk/wp-content/uploads/2026/01/Ten-Pin-Bowling.jpg
END:VEVENT
BEGIN:VEVENT
DTSTART;TZID=UTC:20281109T110000
DTEND;TZID=UTC:20281109T133000
DTSTAMP:20260425T180244
CREATED:20260114T155615Z
LAST-MODIFIED:20260220T162306Z
UID:10002846-1857380400-1857389400@southendinsight.org.uk
SUMMARY:Ten Pin Bowling
DESCRIPTION:Weekly Ten Pin Bowling at CJ’s. \nPlease call our office to book your place
URL:https://southendinsight.org.uk/event/ten-pin-bowling-3/2028-11-09/
LOCATION:CJ’s Bowling\, Eldon Way\, Hockley\, Essex\, SS5 4AD\, United Kingdom
CATEGORIES:Regular Events
ATTACH;FMTTYPE=image/jpeg:https://southendinsight.org.uk/wp-content/uploads/2026/01/Ten-Pin-Bowling.jpg
END:VEVENT
BEGIN:VEVENT
DTSTART;TZID=UTC:20281116T110000
DTEND;TZID=UTC:20281116T133000
DTSTAMP:20260425T180244
CREATED:20260114T155615Z
LAST-MODIFIED:20260220T162306Z
UID:10002847-1857985200-1857994200@southendinsight.org.uk
SUMMARY:Ten Pin Bowling
DESCRIPTION:Weekly Ten Pin Bowling at CJ’s. \nPlease call our office to book your place
URL:https://southendinsight.org.uk/event/ten-pin-bowling-3/2028-11-16/
LOCATION:CJ’s Bowling\, Eldon Way\, Hockley\, Essex\, SS5 4AD\, United Kingdom
CATEGORIES:Regular Events
ATTACH;FMTTYPE=image/jpeg:https://southendinsight.org.uk/wp-content/uploads/2026/01/Ten-Pin-Bowling.jpg
END:VEVENT
BEGIN:VEVENT
DTSTART;TZID=UTC:20281123T110000
DTEND;TZID=UTC:20281123T133000
DTSTAMP:20260425T180244
CREATED:20260114T155615Z
LAST-MODIFIED:20260220T162306Z
UID:10002848-1858590000-1858599000@southendinsight.org.uk
SUMMARY:Ten Pin Bowling
DESCRIPTION:Weekly Ten Pin Bowling at CJ’s. \nPlease call our office to book your place
URL:https://southendinsight.org.uk/event/ten-pin-bowling-3/2028-11-23/
LOCATION:CJ’s Bowling\, Eldon Way\, Hockley\, Essex\, SS5 4AD\, United Kingdom
CATEGORIES:Regular Events
ATTACH;FMTTYPE=image/jpeg:https://southendinsight.org.uk/wp-content/uploads/2026/01/Ten-Pin-Bowling.jpg
END:VEVENT
BEGIN:VEVENT
DTSTART;TZID=UTC:20281130T110000
DTEND;TZID=UTC:20281130T133000
DTSTAMP:20260425T180244
CREATED:20260114T155615Z
LAST-MODIFIED:20260220T162306Z
UID:10002849-1859194800-1859203800@southendinsight.org.uk
SUMMARY:Ten Pin Bowling
DESCRIPTION:Weekly Ten Pin Bowling at CJ’s. \nPlease call our office to book your place
URL:https://southendinsight.org.uk/event/ten-pin-bowling-3/2028-11-30/
LOCATION:CJ’s Bowling\, Eldon Way\, Hockley\, Essex\, SS5 4AD\, United Kingdom
CATEGORIES:Regular Events
ATTACH;FMTTYPE=image/jpeg:https://southendinsight.org.uk/wp-content/uploads/2026/01/Ten-Pin-Bowling.jpg
END:VEVENT
BEGIN:VEVENT
DTSTART;TZID=UTC:20281207T110000
DTEND;TZID=UTC:20281207T133000
DTSTAMP:20260425T180244
CREATED:20260114T155615Z
LAST-MODIFIED:20260220T162306Z
UID:10002850-1859799600-1859808600@southendinsight.org.uk
SUMMARY:Ten Pin Bowling
DESCRIPTION:Weekly Ten Pin Bowling at CJ’s. \nPlease call our office to book your place
URL:https://southendinsight.org.uk/event/ten-pin-bowling-3/2028-12-07/
LOCATION:CJ’s Bowling\, Eldon Way\, Hockley\, Essex\, SS5 4AD\, United Kingdom
CATEGORIES:Regular Events
ATTACH;FMTTYPE=image/jpeg:https://southendinsight.org.uk/wp-content/uploads/2026/01/Ten-Pin-Bowling.jpg
END:VEVENT
BEGIN:VEVENT
DTSTART;TZID=UTC:20281214T110000
DTEND;TZID=UTC:20281214T133000
DTSTAMP:20260425T180244
CREATED:20260114T155615Z
LAST-MODIFIED:20260220T162306Z
UID:10002851-1860404400-1860413400@southendinsight.org.uk
SUMMARY:Ten Pin Bowling
DESCRIPTION:Weekly Ten Pin Bowling at CJ’s. \nPlease call our office to book your place
URL:https://southendinsight.org.uk/event/ten-pin-bowling-3/2028-12-14/
LOCATION:CJ’s Bowling\, Eldon Way\, Hockley\, Essex\, SS5 4AD\, United Kingdom
CATEGORIES:Regular Events
ATTACH;FMTTYPE=image/jpeg:https://southendinsight.org.uk/wp-content/uploads/2026/01/Ten-Pin-Bowling.jpg
END:VEVENT
END:VCALENDAR