BEGIN:VCALENDAR
VERSION:2.0
PRODID:-//Southend in Sight - ECPv6.0.12//NONSGML v1.0//EN
CALSCALE:GREGORIAN
METHOD:PUBLISH
X-ORIGINAL-URL:https://southendinsight.org.uk
X-WR-CALDESC:Events for Southend in Sight
REFRESH-INTERVAL;VALUE=DURATION:PT1H
X-Robots-Tag:noindex
X-PUBLISHED-TTL:PT1H
BEGIN:VTIMEZONE
TZID:UTC
BEGIN:STANDARD
TZOFFSETFROM:+0000
TZOFFSETTO:+0000
TZNAME:UTC
DTSTART:20290101T000000
END:STANDARD
END:VTIMEZONE
BEGIN:VEVENT
DTSTART;TZID=UTC:20290426T110000
DTEND;TZID=UTC:20290426T133000
DTSTAMP:20260426T003127
CREATED:20260114T155615Z
LAST-MODIFIED:20260220T162306Z
UID:10002870-1871895600-1871904600@southendinsight.org.uk
SUMMARY:Ten Pin Bowling
DESCRIPTION:Weekly Ten Pin Bowling at CJ’s. \nPlease call our office to book your place
URL:https://southendinsight.org.uk/event/ten-pin-bowling-3/2029-04-26/
LOCATION:CJ’s Bowling\, Eldon Way\, Hockley\, Essex\, SS5 4AD\, United Kingdom
CATEGORIES:Regular Events
ATTACH;FMTTYPE=image/jpeg:https://southendinsight.org.uk/wp-content/uploads/2026/01/Ten-Pin-Bowling.jpg
END:VEVENT
BEGIN:VEVENT
DTSTART;TZID=UTC:20290503T110000
DTEND;TZID=UTC:20290503T133000
DTSTAMP:20260426T003128
CREATED:20260114T155615Z
LAST-MODIFIED:20260220T162306Z
UID:10002871-1872500400-1872509400@southendinsight.org.uk
SUMMARY:Ten Pin Bowling
DESCRIPTION:Weekly Ten Pin Bowling at CJ’s. \nPlease call our office to book your place
URL:https://southendinsight.org.uk/event/ten-pin-bowling-3/2029-05-03/
LOCATION:CJ’s Bowling\, Eldon Way\, Hockley\, Essex\, SS5 4AD\, United Kingdom
CATEGORIES:Regular Events
ATTACH;FMTTYPE=image/jpeg:https://southendinsight.org.uk/wp-content/uploads/2026/01/Ten-Pin-Bowling.jpg
END:VEVENT
BEGIN:VEVENT
DTSTART;TZID=UTC:20290510T110000
DTEND;TZID=UTC:20290510T133000
DTSTAMP:20260426T003128
CREATED:20260114T155615Z
LAST-MODIFIED:20260220T162306Z
UID:10002872-1873105200-1873114200@southendinsight.org.uk
SUMMARY:Ten Pin Bowling
DESCRIPTION:Weekly Ten Pin Bowling at CJ’s. \nPlease call our office to book your place
URL:https://southendinsight.org.uk/event/ten-pin-bowling-3/2029-05-10/
LOCATION:CJ’s Bowling\, Eldon Way\, Hockley\, Essex\, SS5 4AD\, United Kingdom
CATEGORIES:Regular Events
ATTACH;FMTTYPE=image/jpeg:https://southendinsight.org.uk/wp-content/uploads/2026/01/Ten-Pin-Bowling.jpg
END:VEVENT
BEGIN:VEVENT
DTSTART;TZID=UTC:20290517T110000
DTEND;TZID=UTC:20290517T133000
DTSTAMP:20260426T003128
CREATED:20260114T155615Z
LAST-MODIFIED:20260220T162306Z
UID:10002873-1873710000-1873719000@southendinsight.org.uk
SUMMARY:Ten Pin Bowling
DESCRIPTION:Weekly Ten Pin Bowling at CJ’s. \nPlease call our office to book your place
URL:https://southendinsight.org.uk/event/ten-pin-bowling-3/2029-05-17/
LOCATION:CJ’s Bowling\, Eldon Way\, Hockley\, Essex\, SS5 4AD\, United Kingdom
CATEGORIES:Regular Events
ATTACH;FMTTYPE=image/jpeg:https://southendinsight.org.uk/wp-content/uploads/2026/01/Ten-Pin-Bowling.jpg
END:VEVENT
BEGIN:VEVENT
DTSTART;TZID=UTC:20290524T110000
DTEND;TZID=UTC:20290524T133000
DTSTAMP:20260426T003128
CREATED:20260114T155615Z
LAST-MODIFIED:20260220T162306Z
UID:10002874-1874314800-1874323800@southendinsight.org.uk
SUMMARY:Ten Pin Bowling
DESCRIPTION:Weekly Ten Pin Bowling at CJ’s. \nPlease call our office to book your place
URL:https://southendinsight.org.uk/event/ten-pin-bowling-3/2029-05-24/
LOCATION:CJ’s Bowling\, Eldon Way\, Hockley\, Essex\, SS5 4AD\, United Kingdom
CATEGORIES:Regular Events
ATTACH;FMTTYPE=image/jpeg:https://southendinsight.org.uk/wp-content/uploads/2026/01/Ten-Pin-Bowling.jpg
END:VEVENT
BEGIN:VEVENT
DTSTART;TZID=UTC:20290531T110000
DTEND;TZID=UTC:20290531T133000
DTSTAMP:20260426T003128
CREATED:20260114T155615Z
LAST-MODIFIED:20260220T162306Z
UID:10002875-1874919600-1874928600@southendinsight.org.uk
SUMMARY:Ten Pin Bowling
DESCRIPTION:Weekly Ten Pin Bowling at CJ’s. \nPlease call our office to book your place
URL:https://southendinsight.org.uk/event/ten-pin-bowling-3/2029-05-31/
LOCATION:CJ’s Bowling\, Eldon Way\, Hockley\, Essex\, SS5 4AD\, United Kingdom
CATEGORIES:Regular Events
ATTACH;FMTTYPE=image/jpeg:https://southendinsight.org.uk/wp-content/uploads/2026/01/Ten-Pin-Bowling.jpg
END:VEVENT
BEGIN:VEVENT
DTSTART;TZID=UTC:20290607T110000
DTEND;TZID=UTC:20290607T133000
DTSTAMP:20260426T003128
CREATED:20260114T155615Z
LAST-MODIFIED:20260220T162306Z
UID:10002876-1875524400-1875533400@southendinsight.org.uk
SUMMARY:Ten Pin Bowling
DESCRIPTION:Weekly Ten Pin Bowling at CJ’s. \nPlease call our office to book your place
URL:https://southendinsight.org.uk/event/ten-pin-bowling-3/2029-06-07/
LOCATION:CJ’s Bowling\, Eldon Way\, Hockley\, Essex\, SS5 4AD\, United Kingdom
CATEGORIES:Regular Events
ATTACH;FMTTYPE=image/jpeg:https://southendinsight.org.uk/wp-content/uploads/2026/01/Ten-Pin-Bowling.jpg
END:VEVENT
BEGIN:VEVENT
DTSTART;TZID=UTC:20290614T110000
DTEND;TZID=UTC:20290614T133000
DTSTAMP:20260426T003128
CREATED:20260114T155615Z
LAST-MODIFIED:20260220T162306Z
UID:10002877-1876129200-1876138200@southendinsight.org.uk
SUMMARY:Ten Pin Bowling
DESCRIPTION:Weekly Ten Pin Bowling at CJ’s. \nPlease call our office to book your place
URL:https://southendinsight.org.uk/event/ten-pin-bowling-3/2029-06-14/
LOCATION:CJ’s Bowling\, Eldon Way\, Hockley\, Essex\, SS5 4AD\, United Kingdom
CATEGORIES:Regular Events
ATTACH;FMTTYPE=image/jpeg:https://southendinsight.org.uk/wp-content/uploads/2026/01/Ten-Pin-Bowling.jpg
END:VEVENT
BEGIN:VEVENT
DTSTART;TZID=UTC:20290621T110000
DTEND;TZID=UTC:20290621T133000
DTSTAMP:20260426T003128
CREATED:20260114T155615Z
LAST-MODIFIED:20260220T162306Z
UID:10002878-1876734000-1876743000@southendinsight.org.uk
SUMMARY:Ten Pin Bowling
DESCRIPTION:Weekly Ten Pin Bowling at CJ’s. \nPlease call our office to book your place
URL:https://southendinsight.org.uk/event/ten-pin-bowling-3/2029-06-21/
LOCATION:CJ’s Bowling\, Eldon Way\, Hockley\, Essex\, SS5 4AD\, United Kingdom
CATEGORIES:Regular Events
ATTACH;FMTTYPE=image/jpeg:https://southendinsight.org.uk/wp-content/uploads/2026/01/Ten-Pin-Bowling.jpg
END:VEVENT
BEGIN:VEVENT
DTSTART;TZID=UTC:20290628T110000
DTEND;TZID=UTC:20290628T133000
DTSTAMP:20260426T003128
CREATED:20260114T155615Z
LAST-MODIFIED:20260220T162306Z
UID:10002879-1877338800-1877347800@southendinsight.org.uk
SUMMARY:Ten Pin Bowling
DESCRIPTION:Weekly Ten Pin Bowling at CJ’s. \nPlease call our office to book your place
URL:https://southendinsight.org.uk/event/ten-pin-bowling-3/2029-06-28/
LOCATION:CJ’s Bowling\, Eldon Way\, Hockley\, Essex\, SS5 4AD\, United Kingdom
CATEGORIES:Regular Events
ATTACH;FMTTYPE=image/jpeg:https://southendinsight.org.uk/wp-content/uploads/2026/01/Ten-Pin-Bowling.jpg
END:VEVENT
BEGIN:VEVENT
DTSTART;TZID=UTC:20290705T110000
DTEND;TZID=UTC:20290705T133000
DTSTAMP:20260426T003128
CREATED:20260114T155615Z
LAST-MODIFIED:20260220T162306Z
UID:10002880-1877943600-1877952600@southendinsight.org.uk
SUMMARY:Ten Pin Bowling
DESCRIPTION:Weekly Ten Pin Bowling at CJ’s. \nPlease call our office to book your place
URL:https://southendinsight.org.uk/event/ten-pin-bowling-3/2029-07-05/
LOCATION:CJ’s Bowling\, Eldon Way\, Hockley\, Essex\, SS5 4AD\, United Kingdom
CATEGORIES:Regular Events
ATTACH;FMTTYPE=image/jpeg:https://southendinsight.org.uk/wp-content/uploads/2026/01/Ten-Pin-Bowling.jpg
END:VEVENT
BEGIN:VEVENT
DTSTART;TZID=UTC:20290712T110000
DTEND;TZID=UTC:20290712T133000
DTSTAMP:20260426T003128
CREATED:20260114T155615Z
LAST-MODIFIED:20260220T162306Z
UID:10002881-1878548400-1878557400@southendinsight.org.uk
SUMMARY:Ten Pin Bowling
DESCRIPTION:Weekly Ten Pin Bowling at CJ’s. \nPlease call our office to book your place
URL:https://southendinsight.org.uk/event/ten-pin-bowling-3/2029-07-12/
LOCATION:CJ’s Bowling\, Eldon Way\, Hockley\, Essex\, SS5 4AD\, United Kingdom
CATEGORIES:Regular Events
ATTACH;FMTTYPE=image/jpeg:https://southendinsight.org.uk/wp-content/uploads/2026/01/Ten-Pin-Bowling.jpg
END:VEVENT
BEGIN:VEVENT
DTSTART;TZID=UTC:20290719T110000
DTEND;TZID=UTC:20290719T133000
DTSTAMP:20260426T003128
CREATED:20260114T155615Z
LAST-MODIFIED:20260220T162306Z
UID:10002882-1879153200-1879162200@southendinsight.org.uk
SUMMARY:Ten Pin Bowling
DESCRIPTION:Weekly Ten Pin Bowling at CJ’s. \nPlease call our office to book your place
URL:https://southendinsight.org.uk/event/ten-pin-bowling-3/2029-07-19/
LOCATION:CJ’s Bowling\, Eldon Way\, Hockley\, Essex\, SS5 4AD\, United Kingdom
CATEGORIES:Regular Events
ATTACH;FMTTYPE=image/jpeg:https://southendinsight.org.uk/wp-content/uploads/2026/01/Ten-Pin-Bowling.jpg
END:VEVENT
BEGIN:VEVENT
DTSTART;TZID=UTC:20290726T110000
DTEND;TZID=UTC:20290726T133000
DTSTAMP:20260426T003128
CREATED:20260114T155615Z
LAST-MODIFIED:20260220T162306Z
UID:10002883-1879758000-1879767000@southendinsight.org.uk
SUMMARY:Ten Pin Bowling
DESCRIPTION:Weekly Ten Pin Bowling at CJ’s. \nPlease call our office to book your place
URL:https://southendinsight.org.uk/event/ten-pin-bowling-3/2029-07-26/
LOCATION:CJ’s Bowling\, Eldon Way\, Hockley\, Essex\, SS5 4AD\, United Kingdom
CATEGORIES:Regular Events
ATTACH;FMTTYPE=image/jpeg:https://southendinsight.org.uk/wp-content/uploads/2026/01/Ten-Pin-Bowling.jpg
END:VEVENT
BEGIN:VEVENT
DTSTART;TZID=UTC:20290802T110000
DTEND;TZID=UTC:20290802T133000
DTSTAMP:20260426T003128
CREATED:20260114T155615Z
LAST-MODIFIED:20260220T162306Z
UID:10002884-1880362800-1880371800@southendinsight.org.uk
SUMMARY:Ten Pin Bowling
DESCRIPTION:Weekly Ten Pin Bowling at CJ’s. \nPlease call our office to book your place
URL:https://southendinsight.org.uk/event/ten-pin-bowling-3/2029-08-02/
LOCATION:CJ’s Bowling\, Eldon Way\, Hockley\, Essex\, SS5 4AD\, United Kingdom
CATEGORIES:Regular Events
ATTACH;FMTTYPE=image/jpeg:https://southendinsight.org.uk/wp-content/uploads/2026/01/Ten-Pin-Bowling.jpg
END:VEVENT
BEGIN:VEVENT
DTSTART;TZID=UTC:20290809T110000
DTEND;TZID=UTC:20290809T133000
DTSTAMP:20260426T003128
CREATED:20260114T155615Z
LAST-MODIFIED:20260220T162306Z
UID:10002885-1880967600-1880976600@southendinsight.org.uk
SUMMARY:Ten Pin Bowling
DESCRIPTION:Weekly Ten Pin Bowling at CJ’s. \nPlease call our office to book your place
URL:https://southendinsight.org.uk/event/ten-pin-bowling-3/2029-08-09/
LOCATION:CJ’s Bowling\, Eldon Way\, Hockley\, Essex\, SS5 4AD\, United Kingdom
CATEGORIES:Regular Events
ATTACH;FMTTYPE=image/jpeg:https://southendinsight.org.uk/wp-content/uploads/2026/01/Ten-Pin-Bowling.jpg
END:VEVENT
BEGIN:VEVENT
DTSTART;TZID=UTC:20290816T110000
DTEND;TZID=UTC:20290816T133000
DTSTAMP:20260426T003128
CREATED:20260114T155615Z
LAST-MODIFIED:20260220T162306Z
UID:10002886-1881572400-1881581400@southendinsight.org.uk
SUMMARY:Ten Pin Bowling
DESCRIPTION:Weekly Ten Pin Bowling at CJ’s. \nPlease call our office to book your place
URL:https://southendinsight.org.uk/event/ten-pin-bowling-3/2029-08-16/
LOCATION:CJ’s Bowling\, Eldon Way\, Hockley\, Essex\, SS5 4AD\, United Kingdom
CATEGORIES:Regular Events
ATTACH;FMTTYPE=image/jpeg:https://southendinsight.org.uk/wp-content/uploads/2026/01/Ten-Pin-Bowling.jpg
END:VEVENT
BEGIN:VEVENT
DTSTART;TZID=UTC:20290823T110000
DTEND;TZID=UTC:20290823T133000
DTSTAMP:20260426T003128
CREATED:20260114T155615Z
LAST-MODIFIED:20260220T162306Z
UID:10002887-1882177200-1882186200@southendinsight.org.uk
SUMMARY:Ten Pin Bowling
DESCRIPTION:Weekly Ten Pin Bowling at CJ’s. \nPlease call our office to book your place
URL:https://southendinsight.org.uk/event/ten-pin-bowling-3/2029-08-23/
LOCATION:CJ’s Bowling\, Eldon Way\, Hockley\, Essex\, SS5 4AD\, United Kingdom
CATEGORIES:Regular Events
ATTACH;FMTTYPE=image/jpeg:https://southendinsight.org.uk/wp-content/uploads/2026/01/Ten-Pin-Bowling.jpg
END:VEVENT
BEGIN:VEVENT
DTSTART;TZID=UTC:20290830T110000
DTEND;TZID=UTC:20290830T133000
DTSTAMP:20260426T003128
CREATED:20260114T155615Z
LAST-MODIFIED:20260220T162306Z
UID:10002888-1882782000-1882791000@southendinsight.org.uk
SUMMARY:Ten Pin Bowling
DESCRIPTION:Weekly Ten Pin Bowling at CJ’s. \nPlease call our office to book your place
URL:https://southendinsight.org.uk/event/ten-pin-bowling-3/2029-08-30/
LOCATION:CJ’s Bowling\, Eldon Way\, Hockley\, Essex\, SS5 4AD\, United Kingdom
CATEGORIES:Regular Events
ATTACH;FMTTYPE=image/jpeg:https://southendinsight.org.uk/wp-content/uploads/2026/01/Ten-Pin-Bowling.jpg
END:VEVENT
BEGIN:VEVENT
DTSTART;TZID=UTC:20290906T110000
DTEND;TZID=UTC:20290906T133000
DTSTAMP:20260426T003128
CREATED:20260114T155615Z
LAST-MODIFIED:20260220T162306Z
UID:10002889-1883386800-1883395800@southendinsight.org.uk
SUMMARY:Ten Pin Bowling
DESCRIPTION:Weekly Ten Pin Bowling at CJ’s. \nPlease call our office to book your place
URL:https://southendinsight.org.uk/event/ten-pin-bowling-3/2029-09-06/
LOCATION:CJ’s Bowling\, Eldon Way\, Hockley\, Essex\, SS5 4AD\, United Kingdom
CATEGORIES:Regular Events
ATTACH;FMTTYPE=image/jpeg:https://southendinsight.org.uk/wp-content/uploads/2026/01/Ten-Pin-Bowling.jpg
END:VEVENT
BEGIN:VEVENT
DTSTART;TZID=UTC:20290913T110000
DTEND;TZID=UTC:20290913T133000
DTSTAMP:20260426T003128
CREATED:20260114T155615Z
LAST-MODIFIED:20260220T162306Z
UID:10002890-1883991600-1884000600@southendinsight.org.uk
SUMMARY:Ten Pin Bowling
DESCRIPTION:Weekly Ten Pin Bowling at CJ’s. \nPlease call our office to book your place
URL:https://southendinsight.org.uk/event/ten-pin-bowling-3/2029-09-13/
LOCATION:CJ’s Bowling\, Eldon Way\, Hockley\, Essex\, SS5 4AD\, United Kingdom
CATEGORIES:Regular Events
ATTACH;FMTTYPE=image/jpeg:https://southendinsight.org.uk/wp-content/uploads/2026/01/Ten-Pin-Bowling.jpg
END:VEVENT
BEGIN:VEVENT
DTSTART;TZID=UTC:20290920T110000
DTEND;TZID=UTC:20290920T133000
DTSTAMP:20260426T003128
CREATED:20260114T155615Z
LAST-MODIFIED:20260220T162306Z
UID:10002891-1884596400-1884605400@southendinsight.org.uk
SUMMARY:Ten Pin Bowling
DESCRIPTION:Weekly Ten Pin Bowling at CJ’s. \nPlease call our office to book your place
URL:https://southendinsight.org.uk/event/ten-pin-bowling-3/2029-09-20/
LOCATION:CJ’s Bowling\, Eldon Way\, Hockley\, Essex\, SS5 4AD\, United Kingdom
CATEGORIES:Regular Events
ATTACH;FMTTYPE=image/jpeg:https://southendinsight.org.uk/wp-content/uploads/2026/01/Ten-Pin-Bowling.jpg
END:VEVENT
BEGIN:VEVENT
DTSTART;TZID=UTC:20290927T110000
DTEND;TZID=UTC:20290927T133000
DTSTAMP:20260426T003128
CREATED:20260114T155615Z
LAST-MODIFIED:20260220T162306Z
UID:10002892-1885201200-1885210200@southendinsight.org.uk
SUMMARY:Ten Pin Bowling
DESCRIPTION:Weekly Ten Pin Bowling at CJ’s. \nPlease call our office to book your place
URL:https://southendinsight.org.uk/event/ten-pin-bowling-3/2029-09-27/
LOCATION:CJ’s Bowling\, Eldon Way\, Hockley\, Essex\, SS5 4AD\, United Kingdom
CATEGORIES:Regular Events
ATTACH;FMTTYPE=image/jpeg:https://southendinsight.org.uk/wp-content/uploads/2026/01/Ten-Pin-Bowling.jpg
END:VEVENT
BEGIN:VEVENT
DTSTART;TZID=UTC:20291004T110000
DTEND;TZID=UTC:20291004T133000
DTSTAMP:20260426T003128
CREATED:20260114T155615Z
LAST-MODIFIED:20260220T162306Z
UID:10002893-1885806000-1885815000@southendinsight.org.uk
SUMMARY:Ten Pin Bowling
DESCRIPTION:Weekly Ten Pin Bowling at CJ’s. \nPlease call our office to book your place
URL:https://southendinsight.org.uk/event/ten-pin-bowling-3/2029-10-04/
LOCATION:CJ’s Bowling\, Eldon Way\, Hockley\, Essex\, SS5 4AD\, United Kingdom
CATEGORIES:Regular Events
ATTACH;FMTTYPE=image/jpeg:https://southendinsight.org.uk/wp-content/uploads/2026/01/Ten-Pin-Bowling.jpg
END:VEVENT
BEGIN:VEVENT
DTSTART;TZID=UTC:20291011T110000
DTEND;TZID=UTC:20291011T133000
DTSTAMP:20260426T003128
CREATED:20260114T155615Z
LAST-MODIFIED:20260220T162306Z
UID:10002894-1886410800-1886419800@southendinsight.org.uk
SUMMARY:Ten Pin Bowling
DESCRIPTION:Weekly Ten Pin Bowling at CJ’s. \nPlease call our office to book your place
URL:https://southendinsight.org.uk/event/ten-pin-bowling-3/2029-10-11/
LOCATION:CJ’s Bowling\, Eldon Way\, Hockley\, Essex\, SS5 4AD\, United Kingdom
CATEGORIES:Regular Events
ATTACH;FMTTYPE=image/jpeg:https://southendinsight.org.uk/wp-content/uploads/2026/01/Ten-Pin-Bowling.jpg
END:VEVENT
BEGIN:VEVENT
DTSTART;TZID=UTC:20291018T110000
DTEND;TZID=UTC:20291018T133000
DTSTAMP:20260426T003128
CREATED:20260114T155615Z
LAST-MODIFIED:20260220T162306Z
UID:10002895-1887015600-1887024600@southendinsight.org.uk
SUMMARY:Ten Pin Bowling
DESCRIPTION:Weekly Ten Pin Bowling at CJ’s. \nPlease call our office to book your place
URL:https://southendinsight.org.uk/event/ten-pin-bowling-3/2029-10-18/
LOCATION:CJ’s Bowling\, Eldon Way\, Hockley\, Essex\, SS5 4AD\, United Kingdom
CATEGORIES:Regular Events
ATTACH;FMTTYPE=image/jpeg:https://southendinsight.org.uk/wp-content/uploads/2026/01/Ten-Pin-Bowling.jpg
END:VEVENT
BEGIN:VEVENT
DTSTART;TZID=UTC:20291025T110000
DTEND;TZID=UTC:20291025T133000
DTSTAMP:20260426T003128
CREATED:20260114T155615Z
LAST-MODIFIED:20260220T162306Z
UID:10002896-1887620400-1887629400@southendinsight.org.uk
SUMMARY:Ten Pin Bowling
DESCRIPTION:Weekly Ten Pin Bowling at CJ’s. \nPlease call our office to book your place
URL:https://southendinsight.org.uk/event/ten-pin-bowling-3/2029-10-25/
LOCATION:CJ’s Bowling\, Eldon Way\, Hockley\, Essex\, SS5 4AD\, United Kingdom
CATEGORIES:Regular Events
ATTACH;FMTTYPE=image/jpeg:https://southendinsight.org.uk/wp-content/uploads/2026/01/Ten-Pin-Bowling.jpg
END:VEVENT
BEGIN:VEVENT
DTSTART;TZID=UTC:20291101T110000
DTEND;TZID=UTC:20291101T133000
DTSTAMP:20260426T003128
CREATED:20260114T155615Z
LAST-MODIFIED:20260220T162306Z
UID:10002897-1888225200-1888234200@southendinsight.org.uk
SUMMARY:Ten Pin Bowling
DESCRIPTION:Weekly Ten Pin Bowling at CJ’s. \nPlease call our office to book your place
URL:https://southendinsight.org.uk/event/ten-pin-bowling-3/2029-11-01/
LOCATION:CJ’s Bowling\, Eldon Way\, Hockley\, Essex\, SS5 4AD\, United Kingdom
CATEGORIES:Regular Events
ATTACH;FMTTYPE=image/jpeg:https://southendinsight.org.uk/wp-content/uploads/2026/01/Ten-Pin-Bowling.jpg
END:VEVENT
BEGIN:VEVENT
DTSTART;TZID=UTC:20291108T110000
DTEND;TZID=UTC:20291108T133000
DTSTAMP:20260426T003128
CREATED:20260114T155615Z
LAST-MODIFIED:20260220T162306Z
UID:10002898-1888830000-1888839000@southendinsight.org.uk
SUMMARY:Ten Pin Bowling
DESCRIPTION:Weekly Ten Pin Bowling at CJ’s. \nPlease call our office to book your place
URL:https://southendinsight.org.uk/event/ten-pin-bowling-3/2029-11-08/
LOCATION:CJ’s Bowling\, Eldon Way\, Hockley\, Essex\, SS5 4AD\, United Kingdom
CATEGORIES:Regular Events
ATTACH;FMTTYPE=image/jpeg:https://southendinsight.org.uk/wp-content/uploads/2026/01/Ten-Pin-Bowling.jpg
END:VEVENT
BEGIN:VEVENT
DTSTART;TZID=UTC:20291115T110000
DTEND;TZID=UTC:20291115T133000
DTSTAMP:20260426T003128
CREATED:20260114T155615Z
LAST-MODIFIED:20260220T162306Z
UID:10002899-1889434800-1889443800@southendinsight.org.uk
SUMMARY:Ten Pin Bowling
DESCRIPTION:Weekly Ten Pin Bowling at CJ’s. \nPlease call our office to book your place
URL:https://southendinsight.org.uk/event/ten-pin-bowling-3/2029-11-15/
LOCATION:CJ’s Bowling\, Eldon Way\, Hockley\, Essex\, SS5 4AD\, United Kingdom
CATEGORIES:Regular Events
ATTACH;FMTTYPE=image/jpeg:https://southendinsight.org.uk/wp-content/uploads/2026/01/Ten-Pin-Bowling.jpg
END:VEVENT
END:VCALENDAR